BEGIN:VCALENDAR
VERSION:2.0
PRODID:-//MIEIBC - ECPv6.15.20//NONSGML v1.0//EN
CALSCALE:GREGORIAN
METHOD:PUBLISH
X-WR-CALNAME:MIEIBC
X-ORIGINAL-URL:https://www.mieibc.org
X-WR-CALDESC:Events for MIEIBC
REFRESH-INTERVAL;VALUE=DURATION:PT1H
X-Robots-Tag:noindex
X-PUBLISHED-TTL:PT1H
BEGIN:VTIMEZONE
TZID:America/Detroit
BEGIN:DAYLIGHT
TZOFFSETFROM:-0500
TZOFFSETTO:-0400
TZNAME:EDT
DTSTART:20240310T070000
END:DAYLIGHT
BEGIN:STANDARD
TZOFFSETFROM:-0400
TZOFFSETTO:-0500
TZNAME:EST
DTSTART:20241103T060000
END:STANDARD
BEGIN:DAYLIGHT
TZOFFSETFROM:-0500
TZOFFSETTO:-0400
TZNAME:EDT
DTSTART:20250309T070000
END:DAYLIGHT
BEGIN:STANDARD
TZOFFSETFROM:-0400
TZOFFSETTO:-0500
TZNAME:EST
DTSTART:20251102T060000
END:STANDARD
BEGIN:DAYLIGHT
TZOFFSETFROM:-0500
TZOFFSETTO:-0400
TZNAME:EDT
DTSTART:20260308T070000
END:DAYLIGHT
BEGIN:STANDARD
TZOFFSETFROM:-0400
TZOFFSETTO:-0500
TZNAME:EST
DTSTART:20261101T060000
END:STANDARD
END:VTIMEZONE
BEGIN:VEVENT
DTSTART;TZID=America/Detroit:20250117T110000
DTEND;TZID=America/Detroit:20250117T120000
DTSTAMP:20260423T123333
CREATED:20241125T201504Z
LAST-MODIFIED:20241125T201504Z
UID:10000320-1737111600-1737115200@www.mieibc.org
SUMMARY:Members Monthly Policy Call: January
DESCRIPTION:On the third Friday of each month at 11am ET\, Michigan EIBC members are invited to our Monthly Policy Call. This is a chance to learn about all of the ongoing policy activities in Michigan at the legislature\, Michigan Public Service Commission\, and state agencies\, and a chance to ask questions of Michigan EIBC staff.
URL:https://www.mieibc.org/event/members-monthly-policy-call-january-2/
LOCATION:Zoom Meeting
CATEGORIES:Michigan EIBC
ATTACH;FMTTYPE=image/png:https://www.mieibc.org/wp-content/uploads/2023/02/MIEIBC-wordpress.png
END:VEVENT
BEGIN:VEVENT
DTSTART;TZID=America/Detroit:20250117T130000
DTEND;TZID=America/Detroit:20250117T140000
DTSTAMP:20260423T123333
CREATED:20241125T203925Z
LAST-MODIFIED:20241211T165148Z
UID:10000355-1737118800-1737122400@www.mieibc.org
SUMMARY:EIBC Transportation Electrification Initiative
DESCRIPTION:Open to Michigan EIBC members participating in the 2025 Transportation Electrification Initiative. Reach out to Sophia Schuster (sophia@mieibc.org) if you are interested in learning more about the initiative.
URL:https://www.mieibc.org/event/eibc-transportation-electrification-initiative/
LOCATION:Zoom Meeting
CATEGORIES:Michigan EIBC
ATTACH;FMTTYPE=image/png:https://www.mieibc.org/wp-content/uploads/2023/02/MIEIBC-wordpress.png
END:VEVENT
END:VCALENDAR