BEGIN:VCALENDAR
VERSION:2.0
PRODID:-//MIEIBC - ECPv6.15.20//NONSGML v1.0//EN
CALSCALE:GREGORIAN
METHOD:PUBLISH
X-WR-CALNAME:MIEIBC
X-ORIGINAL-URL:https://www.mieibc.org
X-WR-CALDESC:Events for MIEIBC
REFRESH-INTERVAL;VALUE=DURATION:PT1H
X-Robots-Tag:noindex
X-PUBLISHED-TTL:PT1H
BEGIN:VTIMEZONE
TZID:America/Detroit
BEGIN:DAYLIGHT
TZOFFSETFROM:-0500
TZOFFSETTO:-0400
TZNAME:EDT
DTSTART:20240310T070000
END:DAYLIGHT
BEGIN:STANDARD
TZOFFSETFROM:-0400
TZOFFSETTO:-0500
TZNAME:EST
DTSTART:20241103T060000
END:STANDARD
BEGIN:DAYLIGHT
TZOFFSETFROM:-0500
TZOFFSETTO:-0400
TZNAME:EDT
DTSTART:20250309T070000
END:DAYLIGHT
BEGIN:STANDARD
TZOFFSETFROM:-0400
TZOFFSETTO:-0500
TZNAME:EST
DTSTART:20251102T060000
END:STANDARD
BEGIN:DAYLIGHT
TZOFFSETFROM:-0500
TZOFFSETTO:-0400
TZNAME:EDT
DTSTART:20260308T070000
END:DAYLIGHT
BEGIN:STANDARD
TZOFFSETFROM:-0400
TZOFFSETTO:-0500
TZNAME:EST
DTSTART:20261101T060000
END:STANDARD
END:VTIMEZONE
BEGIN:VEVENT
DTSTART;TZID=America/Detroit:20251105T163000
DTEND;TZID=America/Detroit:20251105T183000
DTSTAMP:20260419T212627
CREATED:20241125T205230Z
LAST-MODIFIED:20251021T201408Z
UID:10000394-1762360200-1762367400@www.mieibc.org
SUMMARY:Member Networking Event
DESCRIPTION:Michigan EIBC is holding a members-only reception with legislators and staff in Lansing. Please reach out to mieibc@mieibc.org for details.
URL:https://www.mieibc.org/event/member-networking-event/
CATEGORIES:Featured Events,Michigan EIBC
ATTACH;FMTTYPE=image/png:https://www.mieibc.org/wp-content/uploads/2024/11/unnamed-Cropped-scaled.png
END:VEVENT
END:VCALENDAR