BEGIN:VCALENDAR
VERSION:2.0
PRODID:-//MIEIBC - ECPv6.15.20//NONSGML v1.0//EN
CALSCALE:GREGORIAN
METHOD:PUBLISH
X-WR-CALNAME:MIEIBC
X-ORIGINAL-URL:https://www.mieibc.org
X-WR-CALDESC:Events for MIEIBC
REFRESH-INTERVAL;VALUE=DURATION:PT1H
X-Robots-Tag:noindex
X-PUBLISHED-TTL:PT1H
BEGIN:VTIMEZONE
TZID:America/Detroit
BEGIN:DAYLIGHT
TZOFFSETFROM:-0500
TZOFFSETTO:-0400
TZNAME:EDT
DTSTART:20250309T070000
END:DAYLIGHT
BEGIN:STANDARD
TZOFFSETFROM:-0400
TZOFFSETTO:-0500
TZNAME:EST
DTSTART:20251102T060000
END:STANDARD
BEGIN:DAYLIGHT
TZOFFSETFROM:-0500
TZOFFSETTO:-0400
TZNAME:EDT
DTSTART:20260308T070000
END:DAYLIGHT
BEGIN:STANDARD
TZOFFSETFROM:-0400
TZOFFSETTO:-0500
TZNAME:EST
DTSTART:20261101T060000
END:STANDARD
BEGIN:DAYLIGHT
TZOFFSETFROM:-0500
TZOFFSETTO:-0400
TZNAME:EDT
DTSTART:20270314T070000
END:DAYLIGHT
BEGIN:STANDARD
TZOFFSETFROM:-0400
TZOFFSETTO:-0500
TZNAME:EST
DTSTART:20271107T060000
END:STANDARD
END:VTIMEZONE
BEGIN:VEVENT
DTSTART;VALUE=DATE:20260115
DTEND;VALUE=DATE:20260116
DTSTAMP:20260419T174617
CREATED:20260107T184615Z
LAST-MODIFIED:20260114T162709Z
UID:10000436-1768435200-1768521599@www.mieibc.org
SUMMARY:Detroit Auto Show Panel
DESCRIPTION:Michigan EIBC members will be able to take advantage of several members-only benefits\, including the opportunity to register for a display on the show floor during the show’s Media & Industry Days (January 14-15). \nAdditionally\, Michigan EIBC will be moderating a panel on January 15 titled\, “Rewired for the Future: Aligning Key Stakeholders for Unified EV Engagement.”
URL:https://www.mieibc.org/event/detroit-auto-show/
CATEGORIES:Featured Events,Michigan EIBC
ATTACH;FMTTYPE=image/png:https://www.mieibc.org/wp-content/uploads/2026/01/DAS-Panel-Presentation-1-scaled.png
END:VEVENT
END:VCALENDAR