BEGIN:VCALENDAR
VERSION:2.0
PRODID:-//MIEIBC - ECPv6.15.20//NONSGML v1.0//EN
CALSCALE:GREGORIAN
METHOD:PUBLISH
X-WR-CALNAME:MIEIBC
X-ORIGINAL-URL:https://www.mieibc.org
X-WR-CALDESC:Events for MIEIBC
REFRESH-INTERVAL;VALUE=DURATION:PT1H
X-Robots-Tag:noindex
X-PUBLISHED-TTL:PT1H
BEGIN:VTIMEZONE
TZID:America/Detroit
BEGIN:DAYLIGHT
TZOFFSETFROM:-0500
TZOFFSETTO:-0400
TZNAME:EDT
DTSTART:20220313T070000
END:DAYLIGHT
BEGIN:STANDARD
TZOFFSETFROM:-0400
TZOFFSETTO:-0500
TZNAME:EST
DTSTART:20221106T060000
END:STANDARD
BEGIN:DAYLIGHT
TZOFFSETFROM:-0500
TZOFFSETTO:-0400
TZNAME:EDT
DTSTART:20230312T070000
END:DAYLIGHT
BEGIN:STANDARD
TZOFFSETFROM:-0400
TZOFFSETTO:-0500
TZNAME:EST
DTSTART:20231105T060000
END:STANDARD
BEGIN:DAYLIGHT
TZOFFSETFROM:-0500
TZOFFSETTO:-0400
TZNAME:EDT
DTSTART:20240310T070000
END:DAYLIGHT
BEGIN:STANDARD
TZOFFSETFROM:-0400
TZOFFSETTO:-0500
TZNAME:EST
DTSTART:20241103T060000
END:STANDARD
BEGIN:DAYLIGHT
TZOFFSETFROM:-0500
TZOFFSETTO:-0400
TZNAME:EDT
DTSTART:20250309T070000
END:DAYLIGHT
BEGIN:STANDARD
TZOFFSETFROM:-0400
TZOFFSETTO:-0500
TZNAME:EST
DTSTART:20251102T060000
END:STANDARD
BEGIN:DAYLIGHT
TZOFFSETFROM:-0500
TZOFFSETTO:-0400
TZNAME:EDT
DTSTART:20260308T070000
END:DAYLIGHT
BEGIN:STANDARD
TZOFFSETFROM:-0400
TZOFFSETTO:-0500
TZNAME:EST
DTSTART:20261101T060000
END:STANDARD
END:VTIMEZONE
BEGIN:VEVENT
DTSTART;TZID=America/Detroit:20250529T160000
DTEND;TZID=America/Detroit:20250529T180000
DTSTAMP:20260419T144225
CREATED:20241125T205052Z
LAST-MODIFIED:20250508T131401Z
UID:10000393-1748534400-1748541600@www.mieibc.org
SUMMARY:Legislative Reception
DESCRIPTION:Following on an incredibly successful event last year\, Michigan EIBC will be hosting a reception at the annual Mackinac Policy Conference. \nThank you to our current sponsors: NextEra Energy Resources\, Michigan CAT\, Advanced Energy United\, AES\, Bellwether Public Relations\, Harvest Solar\, Ranger Power.
URL:https://www.mieibc.org/event/legislative-reception-2/
LOCATION:Seabiscuit Cafe\, 7337 Main St\, Mackinac Island\, MI\, 49757\, United States
CATEGORIES:Featured Events,Michigan EIBC
ATTACH;FMTTYPE=image/jpeg:https://www.mieibc.org/wp-content/uploads/2024/11/member_invite_canva-Cropped-2-scaled.jpg
GEO:45.8490185;-84.6179924
X-APPLE-STRUCTURED-LOCATION;VALUE=URI;X-ADDRESS=Seabiscuit Cafe 7337 Main St Mackinac Island MI 49757 United States;X-APPLE-RADIUS=500;X-TITLE=7337 Main St:geo:-84.6179924,45.8490185
END:VEVENT
BEGIN:VEVENT
DTSTART;TZID=America/Detroit:20250507T083000
DTEND;TZID=America/Detroit:20250507T120000
DTSTAMP:20260419T144225
CREATED:20241125T205634Z
LAST-MODIFIED:20250418T145404Z
UID:10000396-1746606600-1746619200@www.mieibc.org
SUMMARY:Public Convening: Transportation Electrification
DESCRIPTION:Join Michigan EIBC and Clean Fuels Michigan for a public convening to discuss the unique considerations required for states\, municipalities\, and businesses to electrify their fleets. During this event\, we will explore the diverse needs of fleets\, how fleet operators can benefit from electrification\, opportunities to establish fleet incentive and financing programs\, and more. First come\, first serve for a post-event ‘Ride and Drive’ courtesy of Bollinger Motors (limited to the first 15 registrants).  \nRegister here: https://events.bizzabo.com/5-7-25-public-convening
URL:https://www.mieibc.org/event/public-convening-transportation-electrification/
LOCATION:Bollinger Motors\, 14925 W 11 Mile Road\, Oak Park\, MI\, 48237\, United States
CATEGORIES:Featured Events,Michigan EIBC
ATTACH;FMTTYPE=image/jpeg:https://www.mieibc.org/wp-content/uploads/2024/11/4-scaled.jpg
GEO:42.4880155;-83.1964994
X-APPLE-STRUCTURED-LOCATION;VALUE=URI;X-ADDRESS=Bollinger Motors 14925 W 11 Mile Road Oak Park MI 48237 United States;X-APPLE-RADIUS=500;X-TITLE=14925 W 11 Mile Road:geo:-83.1964994,42.4880155
END:VEVENT
BEGIN:VEVENT
DTSTART;TZID=America/Detroit:20250402T080000
DTEND;TZID=America/Detroit:20250402T170000
DTSTAMP:20260419T144225
CREATED:20241125T200610Z
LAST-MODIFIED:20250129T183123Z
UID:10000318-1743580800-1743613200@www.mieibc.org
SUMMARY:13th Annual Michigan Energy Innovators Conference
DESCRIPTION:Join Michigan EIBC on Wednesday\, April 2nd for our 13th Annual Michigan Energy Innovators Conference at the Kellogg Hotel & Conference Center in East Lansing\, MI. Our most popular event of the year\, the annual conference and reception provides attendees an opportunity to network\, learn about innovations in advanced energy\, and get an overview on the latest policy developments. Our conference includes: main-stage panels\, several break-out panels with dozens of expert panelists\, presentations from energy experts\, and networking. The Annual Michigan Energy Innovators Conference brings together leaders in Michigan’s advanced energy industry\, utility executives\, policymakers\, regulators\, and others – to learn and connect about the work we’ve done together and the vital\, continued work into the future! \nTentative Agenda: \nApril 1:  \n5 – 7pm Pre-Conference Reception \nApril 2: \n8am – 5pm Conference \n5pm – 7pm Networking Reception at Kellogg \nFor more information and to register\, click here.
URL:https://www.mieibc.org/event/13th-annual-mi-energy-innovators-conference/
LOCATION:Kellogg Center\, 219 S Harrison Rd\, East Lansing\, MI\, 48824
CATEGORIES:Featured Events,Michigan EIBC
ATTACH;FMTTYPE=image/png:https://www.mieibc.org/wp-content/uploads/2024/11/13th-Michigan-Energy-Innovators-Conference-Header-2-Cropped.png
END:VEVENT
BEGIN:VEVENT
DTSTART;TZID=America/Detroit:20250401T153000
DTEND;TZID=America/Detroit:20250401T163000
DTSTAMP:20260419T144225
CREATED:20241210T220055Z
LAST-MODIFIED:20250218T194020Z
UID:10000398-1743521400-1743525000@www.mieibc.org
SUMMARY:Annual Member Meeting
DESCRIPTION:Join Michigan EIBC for our annual member meeting on April 1st at 3:30pm – more information will be emailed to all members. This event will be followed by a pre-conference reception for our 13th Annual Michigan Energy Innovators Conference.
URL:https://www.mieibc.org/event/annual-member-meeting/
LOCATION:MI
CATEGORIES:Featured Events,Michigan EIBC
ATTACH;FMTTYPE=image/png:https://www.mieibc.org/wp-content/uploads/2024/12/13th-Michigan-Energy-Innovators-Conference-Header-3-Cropped.png
END:VEVENT
BEGIN:VEVENT
DTSTART;TZID=America/Detroit:20250304T114500
DTEND;TZID=America/Detroit:20250304T150000
DTSTAMP:20260419T144225
CREATED:20241125T205504Z
LAST-MODIFIED:20250207T141446Z
UID:10000395-1741088700-1741100400@www.mieibc.org
SUMMARY:Public Convening: Hydrogen
DESCRIPTION:Join Michigan EIBC for a public convening to explore and learn about the many potential roles for hydrogen in our transportation\, industrial\, and power sectors. The event will include networking/lunch\, a panel discussion with industry experts\, and an optional tour of Michigan CAT’s Lansing facility. \nRegister here.
URL:https://www.mieibc.org/event/public-convening-march-2025/
LOCATION:Michigan CAT\, 7650 Millett Hwy\, Lansing\, MI\, 48917
CATEGORIES:Featured Events,Michigan EIBC
ATTACH;FMTTYPE=image/png:https://www.mieibc.org/wp-content/uploads/2024/11/PUBLIC-CONVENING-State-Implementation-OF-THE-Home-Energy-Rebate-Program-4.png
END:VEVENT
BEGIN:VEVENT
DTSTART;TZID=America/Detroit:20241204T090000
DTEND;TZID=America/Detroit:20241204T100000
DTSTAMP:20260419T144225
CREATED:20240628T152952Z
LAST-MODIFIED:20241101T180133Z
UID:10000316-1733302800-1733306400@www.mieibc.org
SUMMARY:December Energy 101 | Breakfast & Brainstorm
DESCRIPTION:Join the Institute for Energy Innovation for our Energy 101 “Breakfast & Brainstorm” on December 4\, 2024 at the Mackinac Room in the House Office Building (9-10 am). Come learn about resiliency at all scales from individual households to neighborhoods to entire communities!
URL:https://www.mieibc.org/event/energy-101-december-2024/
LOCATION:Mackinac Room\, House Office Building\, 124 N Capitol Ave\, Lansing\, MI\, 48933\, United States
CATEGORIES:Featured Events,IEI
ATTACH;FMTTYPE=image/jpeg:https://www.mieibc.org/wp-content/uploads/2024/06/12-4-24-energy-101-Cropped.jpg
ORGANIZER;CN="IEI":MAILTO:iei@instituteforenergyinnovation.org
END:VEVENT
BEGIN:VEVENT
DTSTART;TZID=America/Detroit:20241106T170000
DTEND;TZID=America/Detroit:20241106T210000
DTSTAMP:20260419T144225
CREATED:20240628T152527Z
LAST-MODIFIED:20241010T181757Z
UID:10000315-1730912400-1730926800@www.mieibc.org
SUMMARY:Members-Only Networking Event with AABE
DESCRIPTION:Join Michigan EIBC and AABE at the Charles Wright Museum in Detroit for a members-only networking event! Check your email for a registration link\, or join Michigan EIBC today!
URL:https://www.mieibc.org/event/member-networking-event-with-aabe/
LOCATION:MI
CATEGORIES:Featured Events,Michigan EIBC
ATTACH;FMTTYPE=image/jpeg:https://www.mieibc.org/wp-content/uploads/2024/06/11.6-networking-Cropped.jpg
END:VEVENT
BEGIN:VEVENT
DTSTART;TZID=America/Detroit:20241022T140000
DTEND;TZID=America/Detroit:20241022T163000
DTSTAMP:20260419T144225
CREATED:20240628T152116Z
LAST-MODIFIED:20240917T204249Z
UID:10000314-1729605600-1729614600@www.mieibc.org
SUMMARY:Public Convening | Transportation Electrification Policies
DESCRIPTION:Join Michigan EIBC and Clean Fuels Michigan for a public convening\, which will mark the official launch of our Transportation Electrification Policy Roadmap! The event will also feature speakers and a panel that will consider key policy implementation and how stakeholder collaboration can drive innovation  in Michigan. Attendees will then be able to participate in a tour of the Detroit Smart Parking Lab. We look forward to seeing you there! \nRegister here.
URL:https://www.mieibc.org/event/public-convening-october-2024/
LOCATION:Detroit Smart Parking Lab\, West Lafayette Boulevard\, Detroit\, Michigan\, 48216\, United States
CATEGORIES:Featured Events,Michigan EIBC
ATTACH;FMTTYPE=image/png:https://www.mieibc.org/wp-content/uploads/2024/06/10.22-convening.png
GEO:42.3239492;-83.0654976
X-APPLE-STRUCTURED-LOCATION;VALUE=URI;X-ADDRESS=Detroit Smart Parking Lab West Lafayette Boulevard Detroit Michigan 48216 United States;X-APPLE-RADIUS=500;X-TITLE=West Lafayette Boulevard:geo:-83.0654976,42.3239492
END:VEVENT
BEGIN:VEVENT
DTSTART;TZID=America/Detroit:20240925T170000
DTEND;TZID=America/Detroit:20240925T210000
DTSTAMP:20260419T144225
CREATED:20240105T203459Z
LAST-MODIFIED:20240624T151555Z
UID:10000294-1727283600-1727298000@www.mieibc.org
SUMMARY:12th Annual Michigan Energy Innovators Gala
DESCRIPTION:Michigan EIBC is excited to welcome our members\, Michigan legislators and state officials\, and the general public to our 12th Annual Michigan Energy Innovators Gala on September 25\, 2024 in Detroit. Gala is a wonderful opportunity to network with colleagues\, policymakers\, and industry experts\, all while celebrating the individuals and businesses who succeeded in growing Michigan’s advanced energy sector. \nGet tickets here!
URL:https://www.mieibc.org/event/12th-annual-michigan-energy-innovators-gala/
LOCATION:Gem Theatre\, Madison Street\, Detroit\, MI\, 48226\, United States
CATEGORIES:Featured Events,Michigan EIBC
ATTACH;FMTTYPE=image/png:https://www.mieibc.org/wp-content/uploads/2024/06/2023-annual-conference-gala-sponsorship-11-×-8.5-in-Bumper-Sticker-Cropped-1.png
GEO:42.3376476;-83.0461643
X-APPLE-STRUCTURED-LOCATION;VALUE=URI;X-ADDRESS=Gem Theatre Madison Street Detroit MI 48226 United States;X-APPLE-RADIUS=500;X-TITLE=Madison Street:geo:-83.0461643,42.3376476
END:VEVENT
BEGIN:VEVENT
DTSTART;TZID=America/Detroit:20240612T120000
DTEND;TZID=America/Detroit:20240612T130000
DTSTAMP:20260419T144225
CREATED:20240513T151923Z
LAST-MODIFIED:20240513T152051Z
UID:10000313-1718193600-1718197200@www.mieibc.org
SUMMARY:Energy 101 Lunch and Learn: Transportation Electrification and the State Budget
DESCRIPTION:Join the Institute for Energy Innovation (IEI) for lunch\, learning\, and networking in the Anderson House Office Building. Come learn about transportation electrification and opportunities to support Michigan’s future mobility through the state budget!
URL:https://www.mieibc.org/event/energy-101-lunch-and-learn-transportation-electrification-and-state-budget/
LOCATION:Mackinac Room\, House Office Building\, 124 N Capitol Ave\, Lansing\, MI\, 48933\, United States
CATEGORIES:Featured Events,IEI
ATTACH;FMTTYPE=image/jpeg:https://www.mieibc.org/wp-content/uploads/2024/05/energy-101-6.12.jpeg
ORGANIZER;CN="IEI":MAILTO:iei@instituteforenergyinnovation.org
END:VEVENT
BEGIN:VEVENT
DTSTART;TZID=America/Detroit:20240529T163000
DTEND;TZID=America/Detroit:20240529T180000
DTSTAMP:20260419T144225
CREATED:20240404T185327Z
LAST-MODIFIED:20240404T185440Z
UID:10000312-1717000200-1717005600@www.mieibc.org
SUMMARY:Legislative Reception
DESCRIPTION:Following on an incredibly successful event last year\, Michigan EIBC will be hosting a reception at the annual Mackinac Policy Conference on May 29th (4:30p – 6:00p) at the Seabiscuit Cafe\, Mackinac Island. We hope to see you all there and we’d love to have you sponsor the event! \nIf you’d like to sponsor the event please reach out to Laura (laura@mieibc.org) and Brianna (brianna@mieibc.org). Our available sponsor levels are: megajoule – $2\,500 | kilojoule – $1\,000 | joule – $500 \nThank you to our sponsors! ITC Holdings Corp.\, RWE\, Advanced Energy United\, Michigan CAT\, Atwell\, and Martin Waymire
URL:https://www.mieibc.org/event/legislative-reception/
LOCATION:Seabiscuit Cafe\, 7337 Main St\, Mackinac Island\, MI\, 49757\, United States
CATEGORIES:Featured Events,Michigan EIBC
ATTACH;FMTTYPE=image/png:https://www.mieibc.org/wp-content/uploads/2024/04/Screenshot-2024-04-04-at-2.52.04-PM.png
GEO:45.8490185;-84.6179924
X-APPLE-STRUCTURED-LOCATION;VALUE=URI;X-ADDRESS=Seabiscuit Cafe 7337 Main St Mackinac Island MI 49757 United States;X-APPLE-RADIUS=500;X-TITLE=7337 Main St:geo:-84.6179924,45.8490185
END:VEVENT
BEGIN:VEVENT
DTSTART;TZID=America/Detroit:20240522T120000
DTEND;TZID=America/Detroit:20240522T143000
DTSTAMP:20260419T144225
CREATED:20240402T170538Z
LAST-MODIFIED:20240404T184300Z
UID:10000311-1716379200-1716388200@www.mieibc.org
SUMMARY:Public Convening | Opportunities for Microgrids
DESCRIPTION:Join Michigan EIBC for a public convening focused on opportunities for microgrids to improve reliability\, resiliency\, and expand distributed energy resources as well as on the barriers and opportunities associated with microgrid deployment in Michigan. This event will feature a panel discussion with Michigan EIBC members and a presentation from Michigan State University Professor Dr. Joydeep Mitra as well as lunch and networking opportunities. This event is sponsored by Michigan EGLE. \nRegistration here.
URL:https://www.mieibc.org/event/public-convening-opportunities-for-microgrids/
LOCATION:Varnum\, Grand Rapids
CATEGORIES:Featured Events
ATTACH;FMTTYPE=image/jpeg:https://www.mieibc.org/wp-content/uploads/2024/04/public-convening-on-microgrids.jpeg
END:VEVENT
BEGIN:VEVENT
DTSTART;TZID=America/Detroit:20240424T080000
DTEND;TZID=America/Detroit:20240424T170000
DTSTAMP:20260419T144225
CREATED:20240105T190650Z
LAST-MODIFIED:20240328T193221Z
UID:10000268-1713945600-1713978000@www.mieibc.org
SUMMARY:12th Annual Michigan Energy Innovators Conference
DESCRIPTION:Join us on April 23d and 24th for our 12th Annual Michigan Energy Innovators Conference in East Lansing! \nApril 23: \n5:00 – 7:00 pm: Welcome Reception at Grewal Hall (224 S Washington St\, Lansing) \nApril 24: \n8:00 am: Registration Opens \n5:00 pm: Post-conference Reception \nClick here for a more detailed agenda. Register here. 
URL:https://www.mieibc.org/event/12th-annual-michigan-energy-innovators-conference/
LOCATION:Kellogg Center\, 219 S Harrison Rd\, East Lansing\, MI\, 48824
CATEGORIES:Featured Events,Michigan EIBC
ATTACH;FMTTYPE=image/png:https://www.mieibc.org/wp-content/uploads/2024/01/docs-header-Cropped-1.png
END:VEVENT
BEGIN:VEVENT
DTSTART;TZID=America/Detroit:20240326T120000
DTEND;TZID=America/Detroit:20240326T140000
DTSTAMP:20260419T144225
CREATED:20240228T202805Z
LAST-MODIFIED:20240314T164411Z
UID:10000310-1711454400-1711461600@www.mieibc.org
SUMMARY:Public Convening | Recycling of Solar Panels
DESCRIPTION:Join the Michigan Sustainable Business Forum and the Michigan Energy Innovation Business Council for a public convening to discuss the recycling and reuse of solar panels! \nMillions of solar panels will be installed over the next two decades in Michigan in pursuit of the MI Healthy Climate Plan and public and private-secot renewable energy commitments. This convening will introduce resources for recycling and reuse of solar components\, discuss common materials and manufacturing processes\, and highlight opportunities to proactively address the issue through sustainability practices\, new investment\, and public policy. \n*Note Venue Change* \ntentative agenda\n12:00p-12:30p | Lunch and Networking\n12:30p – 1:00p | State of the State Presentation\n1:00p – 2:00p   | Panel Discussion
URL:https://www.mieibc.org/event/public-convening-recycling-of-solar-panels/
LOCATION:Kellogg Center\, 219 S Harrison Rd\, East Lansing\, MI\, 48824
CATEGORIES:Featured Events,Michigan EIBC
ATTACH;FMTTYPE=image/jpeg:https://www.mieibc.org/wp-content/uploads/2024/02/PV-Solar-Convening-1024x512-1.jpg
END:VEVENT
BEGIN:VEVENT
DTSTART;TZID=America/Detroit:20240221T120000
DTEND;TZID=America/Detroit:20240221T140000
DTSTAMP:20260419T144225
CREATED:20240105T175028Z
LAST-MODIFIED:20240123T200642Z
UID:10000255-1708516800-1708524000@www.mieibc.org
SUMMARY:Public Convening | State Implementation of Home Energy Rebate Program
DESCRIPTION:Join Michigan EIBC and Michigan EGLE for lunch\, networking\, and a public convening discussing state implementation of the Home Energy Rebate Program. We look forward to seeing you there! \nView Eventbrite here for more information.
URL:https://www.mieibc.org/event/public-convening-state-implementation-of-home-energy-rebate-program-2/
LOCATION:UA Local 190 Union Hall\, 7920 Jackson Road\, Ann Arbor\, MI\, 48103
CATEGORIES:Featured Events,Michigan EIBC
ATTACH;FMTTYPE=image/png:https://www.mieibc.org/wp-content/uploads/2023/10/canva_header.png
GEO:42.2946877;-83.887302
X-APPLE-STRUCTURED-LOCATION;VALUE=URI;X-ADDRESS=UA Local 190 Union Hall 7920 Jackson Road Ann Arbor MI 48103;X-APPLE-RADIUS=500;X-TITLE=7920 Jackson Road:geo:-83.887302,42.2946877
END:VEVENT
BEGIN:VEVENT
DTSTART;TZID=America/Detroit:20240207T153000
DTEND;TZID=America/Detroit:20240207T193000
DTSTAMP:20260419T144225
CREATED:20240105T174148Z
LAST-MODIFIED:20240214T185332Z
UID:10000253-1707319800-1707334200@www.mieibc.org
SUMMARY:A Celebration of Michigan's Clean Energy Future
DESCRIPTION:Join us for a celebration of Michigan’s recent passage of legislation to grow and expand the state’s clean energy economy! Members of the industry\, legislators\, and policymakers are invited to a reception at Grewal Hall to network and celebrate. Hosted by Advanced Energy United\, American Clean Power\, Clean Grid Alliance\, the Michigan Energy Innovation Business Council\, and the Solar Energy Industries Association. \nView event pictures here. \n 
URL:https://www.mieibc.org/event/a-celebration-of-michigans-clean-energy-future/
LOCATION:Grewal Hall at 224\, 224 S Washington Square\, Lansing\, MI\, 48933\, United States
CATEGORIES:Featured Events,Michigan EIBC
ATTACH;FMTTYPE=image/jpeg:https://www.mieibc.org/wp-content/uploads/2024/01/feb-7.jpeg
GEO:42.731572;-84.5527262
X-APPLE-STRUCTURED-LOCATION;VALUE=URI;X-ADDRESS=Grewal Hall at 224 224 S Washington Square Lansing MI 48933 United States;X-APPLE-RADIUS=500;X-TITLE=224 S Washington Square:geo:-84.5527262,42.731572
END:VEVENT
BEGIN:VEVENT
DTSTART;TZID=America/Detroit:20231215T110000
DTEND;TZID=America/Detroit:20231215T120000
DTSTAMP:20260419T144225
CREATED:20230623T175800Z
LAST-MODIFIED:20231002T193826Z
UID:10000244-1702638000-1702641600@www.mieibc.org
SUMMARY:Members Monthly Policy Call: December
DESCRIPTION:On the third Friday of each month at 11am ET\, Michigan EIBC members are invited to our Monthly Policy Call. This is a chance to learn about all of the ongoing policy activities in Michigan at the legislature\, Michigan Public Service Commission\, and state agencies\, and a chance to ask questions of Michigan EIBC staff.
URL:https://www.mieibc.org/event/members-monthly-policy-call-december/
LOCATION:Zoom Meeting
CATEGORIES:Featured Events,Michigan EIBC
ATTACH;FMTTYPE=image/png:https://www.mieibc.org/wp-content/uploads/2023/02/MIEIBC-wordpress.png
END:VEVENT
BEGIN:VEVENT
DTSTART;TZID=America/Detroit:20231117T110000
DTEND;TZID=America/Detroit:20231117T120000
DTSTAMP:20260419T144225
CREATED:20230623T172505Z
LAST-MODIFIED:20231002T193752Z
UID:10000240-1700218800-1700222400@www.mieibc.org
SUMMARY:Members Monthly Policy Call: November
DESCRIPTION:On the third Friday of each month at 11am ET\, Michigan EIBC members are invited to our Monthly Policy Call. This is a chance to learn about all of the ongoing policy activities in Michigan at the legislature\, Michigan Public Service Commission\, and state agencies\, and a chance to ask questions of Michigan EIBC staff.
URL:https://www.mieibc.org/event/members-monthly-policy-call-november/
LOCATION:Zoom Meeting
CATEGORIES:Featured Events,Michigan EIBC
ATTACH;FMTTYPE=image/png:https://www.mieibc.org/wp-content/uploads/2023/02/MIEIBC-wordpress.png
END:VEVENT
BEGIN:VEVENT
DTSTART;TZID=America/Detroit:20231108T113000
DTEND;TZID=America/Detroit:20231108T140000
DTSTAMP:20260419T144225
CREATED:20231018T203930Z
LAST-MODIFIED:20231018T203930Z
UID:10000247-1699443000-1699452000@www.mieibc.org
SUMMARY:Public Convening | State Implementation of Home Energy Rebate Program
DESCRIPTION:Please join us for lunch\, networking\, and a public convening on state implementation of the Home Energy Rebate Program. Tentative agenda below. \n\n11:30a – 12:30p | registration\, lunch + networking\n12:30p – 1:00p | Presentation by Michigan EGLE\n1:00p – 2:00p | Panel discussion\n\nView eventbrite here.
URL:https://www.mieibc.org/event/public-convening-state-implementation-of-home-energy-rebate-program/
LOCATION:Varnum\, Grand Rapids
CATEGORIES:Featured Events,Michigan EIBC
ATTACH;FMTTYPE=image/png:https://www.mieibc.org/wp-content/uploads/2023/10/canva_header.png
END:VEVENT
BEGIN:VEVENT
DTSTART;TZID=America/Detroit:20231020T110000
DTEND;TZID=America/Detroit:20231020T120000
DTSTAMP:20260419T144225
CREATED:20230622T195933Z
LAST-MODIFIED:20231002T193640Z
UID:10000234-1697799600-1697803200@www.mieibc.org
SUMMARY:Members Monthly Policy Call: October
DESCRIPTION:On the third Friday of each month at 11am ET\, Michigan EIBC members are invited to our Monthly Policy Call. This is a chance to learn about all of the ongoing policy activities in Michigan at the legislature\, Michigan Public Service Commission\, and state agencies\, and a chance to ask questions of Michigan EIBC staff.
URL:https://www.mieibc.org/event/members-monthly-policy-call-october/
LOCATION:Zoom Meeting
CATEGORIES:Featured Events,Michigan EIBC
ATTACH;FMTTYPE=image/png:https://www.mieibc.org/wp-content/uploads/2023/02/MIEIBC-wordpress.png
END:VEVENT
BEGIN:VEVENT
DTSTART;TZID=America/Detroit:20231006T110000
DTEND;TZID=America/Detroit:20231006T120000
DTSTAMP:20260419T144225
CREATED:20230622T194414Z
LAST-MODIFIED:20231024T143807Z
UID:10000230-1696590000-1696593600@www.mieibc.org
SUMMARY:EIBC Federal Opportunities Tier II: October
DESCRIPTION:EIBC Federal Opportunities Initiative Tier II: Monthly Call \nOpen to Michigan EIBC members participating in Tier II of the 2023 Federal Opportunities Initiative. Provides education on upcoming advanced energy federal tax incentives and grants and provides opportunities to improve implementation of relevant state and federal funding. Reach out to Grace Michienzi (grace@mieibc.org) if you are interested in learning more about the initiative.
URL:https://www.mieibc.org/event/eibc-federal-opportunities-tier-ii-october/
LOCATION:Zoom Meeting
CATEGORIES:Featured Events,Michigan EIBC
ATTACH;FMTTYPE=image/png:https://www.mieibc.org/wp-content/uploads/2023/02/MIEIBC-wordpress.png
END:VEVENT
BEGIN:VEVENT
DTSTART;TZID=America/Detroit:20230921T110000
DTEND;TZID=America/Detroit:20230921T120000
DTSTAMP:20260419T144225
CREATED:20230621T174340Z
LAST-MODIFIED:20230927T154535Z
UID:10000227-1695294000-1695297600@www.mieibc.org
SUMMARY:EIBC 2023 Regulatory Sub-Committee: September
DESCRIPTION:EIBC 2023 Regulatory Sub-Committee Monthly Call \nOpen to Michigan EIBC members participating in the 2023 Regulatory Sub-Committee\, which aims to coordinate and represent Michigan EIBC members in regulatory proceedings to drive MPSC decisions that benefit our member companies and the advanced energy industry.
URL:https://www.mieibc.org/event/eibc-2023-regulatory-sub-committee-september/
LOCATION:Zoom Meeting
CATEGORIES:Featured Events,Michigan EIBC
ATTACH;FMTTYPE=image/png:https://www.mieibc.org/wp-content/uploads/2023/02/MIEIBC-wordpress.png
END:VEVENT
END:VCALENDAR