BEGIN:VCALENDAR
VERSION:2.0
PRODID:-//MIEIBC - ECPv6.15.20//NONSGML v1.0//EN
CALSCALE:GREGORIAN
METHOD:PUBLISH
X-WR-CALNAME:MIEIBC
X-ORIGINAL-URL:https://www.mieibc.org
X-WR-CALDESC:Events for MIEIBC
REFRESH-INTERVAL;VALUE=DURATION:PT1H
X-Robots-Tag:noindex
X-PUBLISHED-TTL:PT1H
BEGIN:VTIMEZONE
TZID:America/Detroit
BEGIN:DAYLIGHT
TZOFFSETFROM:-0500
TZOFFSETTO:-0400
TZNAME:EDT
DTSTART:20250309T070000
END:DAYLIGHT
BEGIN:STANDARD
TZOFFSETFROM:-0400
TZOFFSETTO:-0500
TZNAME:EST
DTSTART:20251102T060000
END:STANDARD
BEGIN:DAYLIGHT
TZOFFSETFROM:-0500
TZOFFSETTO:-0400
TZNAME:EDT
DTSTART:20260308T070000
END:DAYLIGHT
BEGIN:STANDARD
TZOFFSETFROM:-0400
TZOFFSETTO:-0500
TZNAME:EST
DTSTART:20261101T060000
END:STANDARD
BEGIN:DAYLIGHT
TZOFFSETFROM:-0500
TZOFFSETTO:-0400
TZNAME:EDT
DTSTART:20270314T070000
END:DAYLIGHT
BEGIN:STANDARD
TZOFFSETFROM:-0400
TZOFFSETTO:-0500
TZNAME:EST
DTSTART:20271107T060000
END:STANDARD
END:VTIMEZONE
BEGIN:VEVENT
DTSTART;TZID=America/Detroit:20261202T090000
DTEND;TZID=America/Detroit:20261202T100000
DTSTAMP:20260420T001311
CREATED:20260107T193357Z
LAST-MODIFIED:20260107T195518Z
UID:10000483-1796202000-1796205600@www.mieibc.org
SUMMARY:Energy 101: Breakfast Edition
DESCRIPTION:Join the Institute for Energy Innovation for our members-only Energy 101. More information to come!
URL:https://www.mieibc.org/event/energy-101-breakfast-edition/
LOCATION:Mackinac Room\, House Office Building\, 124 N Capitol Ave\, Lansing\, MI\, 48933\, United States
CATEGORIES:Featured Events,IEI
ATTACH;FMTTYPE=image/jpeg:https://www.mieibc.org/wp-content/uploads/2024/11/energy-101-Album-Cover-1-Cropped-scaled.jpg
END:VEVENT
END:VCALENDAR