BEGIN:VCALENDAR
VERSION:2.0
PRODID:-//MIEIBC - ECPv6.15.20//NONSGML v1.0//EN
CALSCALE:GREGORIAN
METHOD:PUBLISH
X-WR-CALNAME:MIEIBC
X-ORIGINAL-URL:https://www.mieibc.org
X-WR-CALDESC:Events for MIEIBC
REFRESH-INTERVAL;VALUE=DURATION:PT1H
X-Robots-Tag:noindex
X-PUBLISHED-TTL:PT1H
BEGIN:VTIMEZONE
TZID:America/Detroit
BEGIN:DAYLIGHT
TZOFFSETFROM:-0500
TZOFFSETTO:-0400
TZNAME:EDT
DTSTART:20200308T070000
END:DAYLIGHT
BEGIN:STANDARD
TZOFFSETFROM:-0400
TZOFFSETTO:-0500
TZNAME:EST
DTSTART:20201101T060000
END:STANDARD
BEGIN:DAYLIGHT
TZOFFSETFROM:-0500
TZOFFSETTO:-0400
TZNAME:EDT
DTSTART:20210314T070000
END:DAYLIGHT
BEGIN:STANDARD
TZOFFSETFROM:-0400
TZOFFSETTO:-0500
TZNAME:EST
DTSTART:20211107T060000
END:STANDARD
BEGIN:DAYLIGHT
TZOFFSETFROM:-0500
TZOFFSETTO:-0400
TZNAME:EDT
DTSTART:20220313T070000
END:DAYLIGHT
BEGIN:STANDARD
TZOFFSETFROM:-0400
TZOFFSETTO:-0500
TZNAME:EST
DTSTART:20221106T060000
END:STANDARD
BEGIN:DAYLIGHT
TZOFFSETFROM:-0500
TZOFFSETTO:-0400
TZNAME:EDT
DTSTART:20230312T070000
END:DAYLIGHT
BEGIN:STANDARD
TZOFFSETFROM:-0400
TZOFFSETTO:-0500
TZNAME:EST
DTSTART:20231105T060000
END:STANDARD
END:VTIMEZONE
BEGIN:VEVENT
DTSTART;TZID=America/Detroit:20220318T110000
DTEND;TZID=America/Detroit:20220318T120000
DTSTAMP:20260419T181808
CREATED:20220110T192645Z
LAST-MODIFIED:20220110T192645Z
UID:10000147-1647601200-1647604800@www.mieibc.org
SUMMARY:EIBC Members monthly policy call
DESCRIPTION:
URL:https://www.mieibc.org/event/eibc-members-monthly-policy-call-2/
END:VEVENT
BEGIN:VEVENT
DTSTART;TZID=America/Detroit:20220317T110000
DTEND;TZID=America/Detroit:20220317T120000
DTSTAMP:20260419T181808
CREATED:20220110T192447Z
LAST-MODIFIED:20220110T192447Z
UID:10000144-1647514800-1647518400@www.mieibc.org
SUMMARY:Regulatory Sub-Committee call
DESCRIPTION:
URL:https://www.mieibc.org/event/regulatory-sub-committee-call-2/
END:VEVENT
BEGIN:VEVENT
DTSTART;VALUE=DATE:20220314
DTEND;VALUE=DATE:20220315
DTSTAMP:20260419T181808
CREATED:20220110T192607Z
LAST-MODIFIED:20220110T192607Z
UID:10000146-1647216000-1647302399@www.mieibc.org
SUMMARY:Energy Storage Public Convening (details to follow)
DESCRIPTION:
URL:https://www.mieibc.org/event/energy-storage-public-convening-details-to-follow/
END:VEVENT
BEGIN:VEVENT
DTSTART;TZID=America/Detroit:20220311T110000
DTEND;TZID=America/Detroit:20220311T120000
DTSTAMP:20260419T181808
CREATED:20220110T192407Z
LAST-MODIFIED:20220110T192407Z
UID:10000143-1646996400-1647000000@www.mieibc.org
SUMMARY:Energy Storage Initiative call
DESCRIPTION:
URL:https://www.mieibc.org/event/energy-storage-initiative-call-2/
END:VEVENT
BEGIN:VEVENT
DTSTART;TZID=America/Detroit:20220307T103000
DTEND;TZID=America/Detroit:20220307T110000
DTSTAMP:20260419T181808
CREATED:20220110T192521Z
LAST-MODIFIED:20220110T192521Z
UID:10000145-1646649000-1646650800@www.mieibc.org
SUMMARY:Energy 101 Series
DESCRIPTION:
URL:https://www.mieibc.org/event/energy-101-series/
END:VEVENT
BEGIN:VEVENT
DTSTART;TZID=America/Detroit:20220304T110000
DTEND;TZID=America/Detroit:20220304T120000
DTSTAMP:20260419T181808
CREATED:20220110T192327Z
LAST-MODIFIED:20220110T192327Z
UID:10000142-1646391600-1646395200@www.mieibc.org
SUMMARY:Federal Policy Initiative call
DESCRIPTION:
URL:https://www.mieibc.org/event/federal-policy-initiative-call-2/
END:VEVENT
BEGIN:VEVENT
DTSTART;TZID=America/Detroit:20220218T110000
DTEND;TZID=America/Detroit:20220218T120000
DTSTAMP:20260419T181808
CREATED:20220110T174833Z
LAST-MODIFIED:20220110T174833Z
UID:10000141-1645182000-1645185600@www.mieibc.org
SUMMARY:EIBC Members monthly policy call
DESCRIPTION:
URL:https://www.mieibc.org/event/eibc-members-monthly-policy-call/
END:VEVENT
BEGIN:VEVENT
DTSTART;TZID=America/Detroit:20220217T110000
DTEND;TZID=America/Detroit:20220217T120000
DTSTAMP:20260419T181809
CREATED:20220110T174751Z
LAST-MODIFIED:20220110T174751Z
UID:10000140-1645095600-1645099200@www.mieibc.org
SUMMARY:Regulatory Sub-Committee Call
DESCRIPTION:
URL:https://www.mieibc.org/event/regulatory-sub-committee-call/
END:VEVENT
BEGIN:VEVENT
DTSTART;TZID=America/Detroit:20220211T110000
DTEND;TZID=America/Detroit:20220211T120000
DTSTAMP:20260419T181809
CREATED:20220110T174715Z
LAST-MODIFIED:20220110T174715Z
UID:10000139-1644577200-1644580800@www.mieibc.org
SUMMARY:Energy Storage Initiative call
DESCRIPTION:
URL:https://www.mieibc.org/event/energy-storage-initiative-call/
END:VEVENT
BEGIN:VEVENT
DTSTART;TZID=America/Detroit:20220204T110000
DTEND;TZID=America/Detroit:20220204T120000
DTSTAMP:20260419T181809
CREATED:20220110T174629Z
LAST-MODIFIED:20220110T174629Z
UID:10000138-1643972400-1643976000@www.mieibc.org
SUMMARY:Federal Policy Initiative call
DESCRIPTION:
URL:https://www.mieibc.org/event/federal-policy-initiative-call/
END:VEVENT
BEGIN:VEVENT
DTSTART;TZID=America/Detroit:20220121T110000
DTEND;TZID=America/Detroit:20220121T120000
DTSTAMP:20260419T181809
CREATED:20220110T174325Z
LAST-MODIFIED:20220110T174325Z
UID:10000136-1642762800-1642766400@www.mieibc.org
SUMMARY:EIBC Member monthly policy call
DESCRIPTION:
URL:https://www.mieibc.org/event/eibc-member-monthly-policy-call/
END:VEVENT
BEGIN:VEVENT
DTSTART;TZID=America/Detroit:20220120T110000
DTEND;TZID=America/Detroit:20220120T120000
DTSTAMP:20260419T181809
CREATED:20220110T174452Z
LAST-MODIFIED:20220110T174452Z
UID:10000137-1642676400-1642680000@www.mieibc.org
SUMMARY:Regulatory Sub-Committee monthly call
DESCRIPTION:
URL:https://www.mieibc.org/event/regulatory-sub-committee-monthly-call-2/
END:VEVENT
BEGIN:VEVENT
DTSTART;TZID=America/Detroit:20220114T110000
DTEND;TZID=America/Detroit:20220114T120000
DTSTAMP:20260419T181809
CREATED:20220110T173926Z
LAST-MODIFIED:20220110T173926Z
UID:10000135-1642158000-1642161600@www.mieibc.org
SUMMARY:Energy Storage Initiative monthly call
DESCRIPTION:
URL:https://www.mieibc.org/event/energy-storage-initiative-monthly-call/
END:VEVENT
BEGIN:VEVENT
DTSTART;TZID=America/Detroit:20211217T110000
DTEND;TZID=America/Detroit:20211217T120000
DTSTAMP:20260419T181809
CREATED:20210218T214004Z
LAST-MODIFIED:20210218T214004Z
UID:10000129-1639738800-1639742400@www.mieibc.org
SUMMARY:Monthly Members-Only Policy Call
DESCRIPTION:Michigan EIBC members are invited to join us at 11:00 am EST for our monthly virtual Policy call. Members will receive a Google calendar invite with the call-in information. \nQuestions? Please contact Nicole Forward at nicole@mieibc.org
URL:https://www.mieibc.org/event/monthly-members-only-policy-committee-conference-call-4-2-2-3-2-2-2-2-2-3-3-2-2-2-2-2-2-2-2-2/
LOCATION:Michigan EIBC Conference Line
ATTACH;FMTTYPE=image/jpeg:https://www.mieibc.org/wp-content/uploads/2019/07/phone.jpg
END:VEVENT
BEGIN:VEVENT
DTSTART;TZID=America/Detroit:20211216T110000
DTEND;TZID=America/Detroit:20211216T120000
DTSTAMP:20260419T181809
CREATED:20210216T232808Z
LAST-MODIFIED:20210216T232808Z
UID:10000116-1639652400-1639656000@www.mieibc.org
SUMMARY:Monthly Regulatory Sub-Committee Call
DESCRIPTION:Michigan EIBC members who are on the Regulatory Sub-Committee are invited to join us at 11:00 am EST for the monthly status call. \nQuestions? Please contact us at mieibc@mieibc.org
URL:https://www.mieibc.org/event/monthly-regulatory-sub-committee-call-2-2-2-2-3-3-9/
LOCATION:Michigan EIBC Conference Line
ATTACH;FMTTYPE=image/jpeg:https://www.mieibc.org/wp-content/uploads/2019/07/phone.jpg
END:VEVENT
BEGIN:VEVENT
DTSTART;TZID=America/Detroit:20211119T110000
DTEND;TZID=America/Detroit:20211119T120000
DTSTAMP:20260419T181809
CREATED:20210218T213852Z
LAST-MODIFIED:20210218T213852Z
UID:10000128-1637319600-1637323200@www.mieibc.org
SUMMARY:Monthly Members-Only Policy Call
DESCRIPTION:Michigan EIBC members are invited to join us at 11:00 am EST for our monthly virtual Policy call. Members will receive a Google calendar invite with the call-in information. \nQuestions? Please contact Nicole Forward at nicole@mieibc.org
URL:https://www.mieibc.org/event/monthly-members-only-policy-committee-conference-call-4-2-2-3-2-2-2-2-2-3-3-2-2-2-2-2-2-2-2/
LOCATION:Michigan EIBC Conference Line
ATTACH;FMTTYPE=image/jpeg:https://www.mieibc.org/wp-content/uploads/2019/07/phone.jpg
END:VEVENT
BEGIN:VEVENT
DTSTART;TZID=America/Detroit:20211118T110000
DTEND;TZID=America/Detroit:20211118T120000
DTSTAMP:20260419T181809
CREATED:20210216T232418Z
LAST-MODIFIED:20210216T232418Z
UID:10000115-1637233200-1637236800@www.mieibc.org
SUMMARY:Monthly Regulatory Sub-Committee Call
DESCRIPTION:Michigan EIBC members who are on the Regulatory Sub-Committee are invited to join us at 11:00 am EST for the monthly status call. \nQuestions? Please contact us at mieibc@mieibc.org
URL:https://www.mieibc.org/event/monthly-regulatory-sub-committee-call-2-2-2-2-3-3-8/
LOCATION:Michigan EIBC Conference Line
ATTACH;FMTTYPE=image/jpeg:https://www.mieibc.org/wp-content/uploads/2019/07/phone.jpg
END:VEVENT
BEGIN:VEVENT
DTSTART;TZID=America/Detroit:20211021T110000
DTEND;TZID=America/Detroit:20211021T120000
DTSTAMP:20260419T181809
CREATED:20210216T232122Z
LAST-MODIFIED:20210216T232122Z
UID:10000114-1634814000-1634817600@www.mieibc.org
SUMMARY:Monthly Regulatory Sub-Committee Call
DESCRIPTION:Michigan EIBC members who are on the Regulatory Sub-Committee are invited to join us at 11:00 am EST for the monthly status call. \nQuestions? Please contact us at mieibc@mieibc.org
URL:https://www.mieibc.org/event/monthly-regulatory-sub-committee-call-2-2-2-2-3-3-7/
LOCATION:Michigan EIBC Conference Line
ATTACH;FMTTYPE=image/jpeg:https://www.mieibc.org/wp-content/uploads/2019/07/phone.jpg
END:VEVENT
BEGIN:VEVENT
DTSTART;TZID=America/Detroit:20211018T113000
DTEND;TZID=America/Detroit:20211018T143000
DTSTAMP:20260419T181809
CREATED:20210929T191813Z
LAST-MODIFIED:20210929T192207Z
UID:10000134-1634556600-1634567400@www.mieibc.org
SUMMARY:Energy Storage Convening: Panel Discussion + Tour
DESCRIPTION:Energy Storage Convening: Opportunities to Reuse and Recycle Energy Storage Technologies\nEnergy storage technologies are crucial to the future of the electricity and transportation sectors. Join Michigan EIBC and others from across the industry to discuss what second life opportunities exist for battery technologies and how to build an economy around reused and recycled energy storage technologies.\n  \nAgenda\n11:30a    |   Lunch (individual boxed lunches + vegetarian option)\n12:30p    |  Opening Speaker – Dr. Annick Anctil\, Michigan State University\n                    Panel Discussion – Tom Newell\, COO\, Renewance | Ed Shaffer\, CEO\, Advanced Battery Solutions\n1:45p      |  Facility Tour\n2:30p      |  Event Concludes\n\nClick here to register!\n\nAs this will be an indoor event\, please note that the health and safety of all is of the utmost importance to us. Attendees are required to be fully vaccinated against COVID-19 or have a negative COVID-19 test within 72 hours of this event. The CDC defines fully vaccinated as two weeks after receiving a second shot of a two-dose vaccine or two weeks after the single-dose Johnson & Johnson vaccine. Additionally\, as recommended by CDC guidance\, Michigan EIBC will require masks to be worn for the entirety of the event\, with the exception of eating lunch.
URL:https://www.mieibc.org/event/energy-storage-convening-panel-discussion-tour/
LOCATION:Advanced Battery Concepts\, 8 Consumers Energy Parkway\, Clare\, MI\, 48617\, United States
ATTACH;FMTTYPE=image/jpeg:https://www.mieibc.org/wp-content/uploads/2021/09/energy_storage_istock-1128888172-scaled.jpg
END:VEVENT
BEGIN:VEVENT
DTSTART;TZID=America/Detroit:20211015T110000
DTEND;TZID=America/Detroit:20211015T120000
DTSTAMP:20260419T181809
CREATED:20210218T213738Z
LAST-MODIFIED:20210218T213738Z
UID:10000127-1634295600-1634299200@www.mieibc.org
SUMMARY:Monthly Members-Only Policy Call
DESCRIPTION:Michigan EIBC members are invited to join us at 11:00 am EST for our monthly virtual Policy call. Members will receive a Google calendar invite with the call-in information. \nQuestions? Please contact Nicole Forward at nicole@mieibc.org
URL:https://www.mieibc.org/event/monthly-members-only-policy-committee-conference-call-4-2-2-3-2-2-2-2-2-3-3-2-2-2-2-2-2-2/
LOCATION:Michigan EIBC Conference Line
ATTACH;FMTTYPE=image/jpeg:https://www.mieibc.org/wp-content/uploads/2019/07/phone.jpg
END:VEVENT
BEGIN:VEVENT
DTSTART;TZID=America/Detroit:20211004T103000
DTEND;TZID=America/Detroit:20211004T110000
DTSTAMP:20260419T181809
CREATED:20210929T165719Z
LAST-MODIFIED:20210929T165809Z
UID:10000133-1633343400-1633345200@www.mieibc.org
SUMMARY:Energy 101 (virtual) | Making Michigan's power grid more resilient and the role of distributed energy resources
DESCRIPTION:The Institute for Energy Innovation will host a virtual Energy 101 education session for legislators focused on the role of distributed energy resources such as solar\, energy storage\, and energy management technologies in increasing Michigan’s resilience to extreme weather events and power outages. The event will include presentations from industry participants working at the forefront of the sector.
URL:https://www.mieibc.org/event/energy-101-virtual-making-michigans-power-grid-more-resilient-and-the-role-of-distributed-energy-resources/
LOCATION:Zoom Meeting
ATTACH;FMTTYPE=image/png:https://www.mieibc.org/wp-content/uploads/2021/09/transmission.png
ORGANIZER;CN="IEI":MAILTO:iei@instituteforenergyinnovation.org
END:VEVENT
BEGIN:VEVENT
DTSTART;TZID=America/Detroit:20210927T130000
DTEND;TZID=America/Detroit:20210927T150000
DTSTAMP:20260419T181809
CREATED:20210216T212639Z
LAST-MODIFIED:20210216T212639Z
UID:10000108-1632747600-1632754800@www.mieibc.org
SUMMARY:Michigan EIBC Quarterly Board Meeting
DESCRIPTION:Michigan EIBC Board Members are invited to join us for the quarterly board meeting. This meeting will take place via Zoom from 1:00 to 3:00pm EST.
URL:https://www.mieibc.org/event/michigan-eibc-quarterly-board-meeting-2-2/
LOCATION:Michigan EIBC Conference Line
ATTACH;FMTTYPE=image/png:https://www.mieibc.org/wp-content/uploads/2019/07/board-meeting-icon-e1564511782111.png
END:VEVENT
BEGIN:VEVENT
DTSTART;TZID=America/Detroit:20210917T110000
DTEND;TZID=America/Detroit:20210917T120000
DTSTAMP:20260419T181809
CREATED:20210218T213624Z
LAST-MODIFIED:20210218T213624Z
UID:10000126-1631876400-1631880000@www.mieibc.org
SUMMARY:Monthly Members-Only Policy Call
DESCRIPTION:Michigan EIBC members are invited to join us at 11:00 am EST for our monthly virtual Policy call. Members will receive a Google calendar invite with the call-in information. \nQuestions? Please contact Nicole Forward at nicole@mieibc.org
URL:https://www.mieibc.org/event/monthly-members-only-policy-committee-conference-call-4-2-2-3-2-2-2-2-2-3-3-2-2-2-2-2-2/
LOCATION:Michigan EIBC Conference Line
ATTACH;FMTTYPE=image/jpeg:https://www.mieibc.org/wp-content/uploads/2019/07/phone.jpg
END:VEVENT
BEGIN:VEVENT
DTSTART;TZID=America/Detroit:20210916T110000
DTEND;TZID=America/Detroit:20210916T120000
DTSTAMP:20260419T181809
CREATED:20210216T231915Z
LAST-MODIFIED:20210216T231915Z
UID:10000113-1631790000-1631793600@www.mieibc.org
SUMMARY:Monthly Regulatory Sub-Committee Call
DESCRIPTION:Michigan EIBC members who are on the Regulatory Sub-Committee are invited to join us at 11:00 am EST for the monthly status call. \nQuestions? Please contact us at mieibc@mieibc.org
URL:https://www.mieibc.org/event/monthly-regulatory-sub-committee-call-2-2-2-2-3-3-6/
LOCATION:Michigan EIBC Conference Line
ATTACH;FMTTYPE=image/jpeg:https://www.mieibc.org/wp-content/uploads/2019/07/phone.jpg
END:VEVENT
BEGIN:VEVENT
DTSTART;TZID=America/Detroit:20210914T170000
DTEND;TZID=America/Detroit:20210914T200000
DTSTAMP:20260419T181809
CREATED:20210610T190716Z
LAST-MODIFIED:20210831T153649Z
UID:10000132-1631638800-1631649600@www.mieibc.org
SUMMARY:9th Annual Michigan Energy Innovators Gala
DESCRIPTION:Michigan EIBC is thrilled to announce that Lieutenant Governor Garlin Gilchrist II will be the keynote speaker for our 9th Annual Michigan Energy Innovators Gala.  We’re honored to have the Lieutenant Governor join us to celebrate the successes and vital work we do in the advanced energy industry. \nSeptember 14\, 2021 | 5:00pm – 8:00pm | The Eastern\, Detroit\, MI \nReserve your tickets here! \nWe are excited to host this years Gala in Detroit\, MI\, where we will celebrate the individuals and businesses who have worked to grow Michigan’s advanced energy sector in 2021 and provides us the opportunity to resume networking in-person with colleagues\, policymakers\, and industry experts who will be in attendance. \nPlease note that the health and safety of our staff and guests is of utmost importance to us. Attendees of Gala are required to be fully vaccinated against COVID-19 or have a negative COVID-19 test within 72 hours of the start of the event. The CDC defines fully vaccinated as two weeks after receiving a second shot of a two-dose vaccine or two weeks after the single-dose Johnson & Johnson vaccine. Additionally\, as recommended by CDC guidance\, Michigan EIBC strongly encourages that all attendees wear masks while indoors. \nWe are grateful to be able to host this event where attendees can be indoors\, outdoors or both for all of the event\, and the program portion of the evening will be held outside\, on the patio. \n\nSponsorship Opportunities Update:\n\nWe invite you to become a sponsor of Michigan EIBC’s premier annual Gala event. We will be hosting a VIP Cocktail Reception with our keynote speaker Lieutenant Governor Garlin Gilchrist II and other VIPs\, for those sponsors at the GIGAWATT + MEGAWATT sponsor level. Please let us know if you are interested in this exclusive opportunity! Sponsors will benefit from networking with advanced energy industry leaders and experts. For information on sponsorship opportunities and benefits contact Brianna Gerard at brianna@mieibc.org. \n\nUpdated Event Timeline: \n5:00 pm – 6:15 pm  |  Cocktail hour + Networking (open bar + food trucks serving)\n6:20 pm – 7:30 pm  |  Keynote Speaker + Awards Program\n7:30 pm – 8:00pm  |  Continued Networking + Dessert & Coffee/Tea Bar\n                  8:00 pm  |  Event Concludes \n  \n\nThank you to our current GIGAWATT + MEGAWATT Sponsors: \n  \n \n  \n \n 
URL:https://www.mieibc.org/event/9th-annual-michigan-energy-innovators-gala/
LOCATION:The Eastern\, 3434 Russell St Suite 501\, Detroit\, MI\, 48207\, United States
ATTACH;FMTTYPE=image/png:https://www.mieibc.org/wp-content/uploads/2021/06/2021-event-invite-header-high-contrast-2.png
END:VEVENT
BEGIN:VEVENT
DTSTART;TZID=America/Detroit:20210820T110000
DTEND;TZID=America/Detroit:20210820T120000
DTSTAMP:20260419T181809
CREATED:20210218T213454Z
LAST-MODIFIED:20210218T213454Z
UID:10000125-1629457200-1629460800@www.mieibc.org
SUMMARY:Monthly Members-Only Policy Call
DESCRIPTION:Michigan EIBC members are invited to join us at 11:00 am EST for our monthly virtual Policy call. Members will receive a Google calendar invite with the call-in information. \nQuestions? Please contact Nicole Forward at nicole@mieibc.org
URL:https://www.mieibc.org/event/monthly-members-only-policy-committee-conference-call-4-2-2-3-2-2-2-2-2-3-3-2-2-2-2-2/
LOCATION:Michigan EIBC Conference Line
ATTACH;FMTTYPE=image/jpeg:https://www.mieibc.org/wp-content/uploads/2019/07/phone.jpg
END:VEVENT
BEGIN:VEVENT
DTSTART;TZID=America/Detroit:20210819T110000
DTEND;TZID=America/Detroit:20210819T120000
DTSTAMP:20260419T181809
CREATED:20210216T231635Z
LAST-MODIFIED:20210216T231635Z
UID:10000112-1629370800-1629374400@www.mieibc.org
SUMMARY:Monthly Regulatory Sub-Committee Call
DESCRIPTION:Michigan EIBC members who are on the Regulatory Sub-Committee are invited to join us at 11:00 am EST for the monthly status call. \nQuestions? Please contact us at mieibc@mieibc.org
URL:https://www.mieibc.org/event/monthly-regulatory-sub-committee-call-2-2-2-2-3-3-5/
LOCATION:Michigan EIBC Conference Line
ATTACH;FMTTYPE=image/jpeg:https://www.mieibc.org/wp-content/uploads/2019/07/phone.jpg
END:VEVENT
BEGIN:VEVENT
DTSTART;TZID=America/Detroit:20210727T170000
DTEND;TZID=America/Detroit:20210727T190000
DTSTAMP:20260419T181809
CREATED:20210216T212550Z
LAST-MODIFIED:20210712T044546Z
UID:10000107-1627405200-1627412400@www.mieibc.org
SUMMARY:Members-Only Networking Summer Shindig
DESCRIPTION:Join us for our first in-person outdoor event of 2021\, for members only! Let’s engage with our colleagues\, meet some new collaborators\, and applaud each other for the vital work we continued during the pandemic. Please register for this event below. We look forward to seeing you on Tuesday\, July 27\, 2021 between 5:00pm – 7:00pm. \n1783 Iroquois\, Detroit\, MI 48214 \nPlease RSVP using the REGISTER button above!
URL:https://www.mieibc.org/event/members-summer-networking-event/
LOCATION:1783 Iroquois\, Detroit\, MI 48214\, 1783 Iroquois\, Detroit\, MI\, 48214\, United States
ATTACH;FMTTYPE=image/jpeg:https://www.mieibc.org/wp-content/uploads/2021/02/event_locationpicture_litpergolaouttopool-scaled.jpg
END:VEVENT
BEGIN:VEVENT
DTSTART;TZID=America/Detroit:20210716T110000
DTEND;TZID=America/Detroit:20210716T120000
DTSTAMP:20260419T181809
CREATED:20210218T213330Z
LAST-MODIFIED:20210218T213330Z
UID:10000124-1626433200-1626436800@www.mieibc.org
SUMMARY:Monthly Members-Only Policy Call
DESCRIPTION:Michigan EIBC members are invited to join us at 11:00 am EST for our monthly virtual Policy call. Members will receive a Google calendar invite with the call-in information. \nQuestions? Please contact Nicole Forward at nicole@mieibc.org
URL:https://www.mieibc.org/event/monthly-members-only-policy-committee-conference-call-4-2-2-3-2-2-2-2-2-3-3-2-2-2-2/
LOCATION:Michigan EIBC Conference Line
ATTACH;FMTTYPE=image/jpeg:https://www.mieibc.org/wp-content/uploads/2019/07/phone.jpg
END:VEVENT
BEGIN:VEVENT
DTSTART;TZID=America/Detroit:20210715T110000
DTEND;TZID=America/Detroit:20210715T120000
DTSTAMP:20260419T181809
CREATED:20210216T231442Z
LAST-MODIFIED:20210216T231442Z
UID:10000111-1626346800-1626350400@www.mieibc.org
SUMMARY:Monthly Regulatory Sub-Committee Call
DESCRIPTION:Michigan EIBC members who are on the Regulatory Sub-Committee are invited to join us at 11:00 am EST for the monthly status call. \nQuestions? Please contact us at mieibc@mieibc.org
URL:https://www.mieibc.org/event/monthly-regulatory-sub-committee-call-2-2-2-2-3-3-4/
LOCATION:Michigan EIBC Conference Line
ATTACH;FMTTYPE=image/jpeg:https://www.mieibc.org/wp-content/uploads/2019/07/phone.jpg
END:VEVENT
END:VCALENDAR