BEGIN:VCALENDAR
VERSION:2.0
PRODID:-//MIEIBC - ECPv6.15.20//NONSGML v1.0//EN
CALSCALE:GREGORIAN
METHOD:PUBLISH
X-ORIGINAL-URL:https://www.mieibc.org
X-WR-CALDESC:Events for MIEIBC
REFRESH-INTERVAL;VALUE=DURATION:PT1H
X-Robots-Tag:noindex
X-PUBLISHED-TTL:PT1H
BEGIN:VTIMEZONE
TZID:America/Detroit
BEGIN:DAYLIGHT
TZOFFSETFROM:-0500
TZOFFSETTO:-0400
TZNAME:EDT
DTSTART:20240310T070000
END:DAYLIGHT
BEGIN:STANDARD
TZOFFSETFROM:-0400
TZOFFSETTO:-0500
TZNAME:EST
DTSTART:20241103T060000
END:STANDARD
BEGIN:DAYLIGHT
TZOFFSETFROM:-0500
TZOFFSETTO:-0400
TZNAME:EDT
DTSTART:20250309T070000
END:DAYLIGHT
BEGIN:STANDARD
TZOFFSETFROM:-0400
TZOFFSETTO:-0500
TZNAME:EST
DTSTART:20251102T060000
END:STANDARD
BEGIN:DAYLIGHT
TZOFFSETFROM:-0500
TZOFFSETTO:-0400
TZNAME:EDT
DTSTART:20260308T070000
END:DAYLIGHT
BEGIN:STANDARD
TZOFFSETFROM:-0400
TZOFFSETTO:-0500
TZNAME:EST
DTSTART:20261101T060000
END:STANDARD
END:VTIMEZONE
BEGIN:VEVENT
DTSTART;TZID=America/Detroit:20250304T114500
DTEND;TZID=America/Detroit:20250304T150000
DTSTAMP:20260423T074018
CREATED:20241125T205504Z
LAST-MODIFIED:20250207T141446Z
UID:10000395-1741088700-1741100400@www.mieibc.org
SUMMARY:Public Convening: Hydrogen
DESCRIPTION:Join Michigan EIBC for a public convening to explore and learn about the many potential roles for hydrogen in our transportation\, industrial\, and power sectors. The event will include networking/lunch\, a panel discussion with industry experts\, and an optional tour of Michigan CAT’s Lansing facility. \nRegister here.
URL:https://www.mieibc.org/event/public-convening-march-2025/
LOCATION:Michigan CAT\, 7650 Millett Hwy\, Lansing\, MI\, 48917
CATEGORIES:Featured Events,Michigan EIBC
ATTACH;FMTTYPE=image/png:https://www.mieibc.org/wp-content/uploads/2024/11/PUBLIC-CONVENING-State-Implementation-OF-THE-Home-Energy-Rebate-Program-4.png
END:VEVENT
BEGIN:VEVENT
DTSTART;TZID=America/Detroit:20250307T110000
DTEND;TZID=America/Detroit:20250307T120000
DTSTAMP:20260423T074018
CREATED:20241211T165707Z
LAST-MODIFIED:20241211T165707Z
UID:10000400-1741345200-1741348800@www.mieibc.org
SUMMARY:EIBC Transportation Electrification Initiative
DESCRIPTION:Open to Michigan EIBC members participating in the 2025 Transportation Electrification Initiative. Reach out to Sophia Schuster (sophia@mieibc.org) if you are interested in learning more about the initiative.
URL:https://www.mieibc.org/event/eibc-transportation-electrification-initiative-2025/2025-03-07/
LOCATION:Zoom Meeting
CATEGORIES:Michigan EIBC
ATTACH;FMTTYPE=image/png:https://www.mieibc.org/wp-content/uploads/2023/02/MIEIBC-wordpress.png
END:VEVENT
BEGIN:VEVENT
DTSTART;TZID=America/Detroit:20250313T110000
DTEND;TZID=America/Detroit:20250313T120000
DTSTAMP:20260423T074018
CREATED:20241125T204407Z
LAST-MODIFIED:20241125T204407Z
UID:10000381-1741863600-1741867200@www.mieibc.org
SUMMARY:EIBC Solar for All Initiative
DESCRIPTION:Open to Michigan EIBC members participating in the 2025 Solar for All Initiative. Reach out to Grace Michienzi (grace@mieibc.org) if you are interested in learning more about the initiative.
URL:https://www.mieibc.org/event/eibc-solar-for-all-initiative/2025-03-13/
LOCATION:Zoom Meeting
CATEGORIES:Michigan EIBC
ATTACH;FMTTYPE=image/png:https://www.mieibc.org/wp-content/uploads/2023/02/MIEIBC-wordpress.png
END:VEVENT
BEGIN:VEVENT
DTSTART;TZID=America/Detroit:20250314T110000
DTEND;TZID=America/Detroit:20250314T120000
DTSTAMP:20260423T074018
CREATED:20241125T203537Z
LAST-MODIFIED:20241125T203537Z
UID:10000345-1741950000-1741953600@www.mieibc.org
SUMMARY:EIBC Energy Storage Initiative
DESCRIPTION:Open to Michigan EIBC members participating in the 2025 Energy Storage Initiative. Collaborates on policy goals to expand opportunities for the energy storage industry in Michigan. Reach out to Laura Sherman (laura@mieibc.org) if you are interested in learning more about the initiative.
URL:https://www.mieibc.org/event/eibc-energy-storage-initiative/2025-03-14/
LOCATION:Zoom Meeting
CATEGORIES:Michigan EIBC
ATTACH;FMTTYPE=image/png:https://www.mieibc.org/wp-content/uploads/2023/02/MIEIBC-wordpress.png
END:VEVENT
BEGIN:VEVENT
DTSTART;TZID=America/Detroit:20250320T110000
DTEND;TZID=America/Detroit:20250320T120000
DTSTAMP:20260423T074018
CREATED:20241125T203212Z
LAST-MODIFIED:20241125T203212Z
UID:10000334-1742468400-1742472000@www.mieibc.org
SUMMARY:EIBC Regulatory Sub-Committee
DESCRIPTION:Open to Michigan EIBC members participating in the 2025 Regulatory Sub-Committee\, which aims to coordinate and represent Michigan EIBC members in regulatory proceedings to drive MPSC decisions that benefit our member companies and the advanced energy industry. Reach out to Laura Sherman (laura@mieibc.org) if you are interested in learning more about this initiative.
URL:https://www.mieibc.org/event/eibc-regulatory-sub-committee/2025-03-20/
LOCATION:Zoom Meeting
CATEGORIES:Michigan EIBC
ATTACH;FMTTYPE=image/png:https://www.mieibc.org/wp-content/uploads/2023/02/MIEIBC-wordpress.png
END:VEVENT
BEGIN:VEVENT
DTSTART;TZID=America/Detroit:20250321T110000
DTEND;TZID=America/Detroit:20250321T120000
DTSTAMP:20260423T074018
CREATED:20241125T201750Z
LAST-MODIFIED:20241125T201750Z
UID:10000322-1742554800-1742558400@www.mieibc.org
SUMMARY:Members Monthly Policy Call: March
DESCRIPTION:On the third Friday of each month at 11am ET\, Michigan EIBC members are invited to our Monthly Policy Call. This is a chance to learn about all of the ongoing policy activities in Michigan at the legislature\, Michigan Public Service Commission\, and state agencies\, and a chance to ask questions of Michigan EIBC staff.
URL:https://www.mieibc.org/event/members-monthly-policy-call-march-2/
LOCATION:Zoom Meeting
CATEGORIES:Michigan EIBC
ATTACH;FMTTYPE=image/png:https://www.mieibc.org/wp-content/uploads/2023/02/MIEIBC-wordpress.png
END:VEVENT
BEGIN:VEVENT
DTSTART;TZID=America/Detroit:20250328T110000
DTEND;TZID=America/Detroit:20250328T120000
DTSTAMP:20260423T074018
CREATED:20241125T204144Z
LAST-MODIFIED:20241125T204144Z
UID:10000369-1743159600-1743163200@www.mieibc.org
SUMMARY:EIBC Building Decarbonization Initiative
DESCRIPTION:Open to Michigan EIBC members participating in the 2025 Building Decarbonization Initiative. Reach out to Grace Michienzi (grace@mieibc.org) if you are interested in learning more about the initiative.
URL:https://www.mieibc.org/event/eibc-building-decarbonization-initiative/2025-03-28/
LOCATION:Zoom Meeting
CATEGORIES:Michigan EIBC
ATTACH;FMTTYPE=image/png:https://www.mieibc.org/wp-content/uploads/2023/02/MIEIBC-wordpress.png
END:VEVENT
END:VCALENDAR