BEGIN:VCALENDAR
VERSION:2.0
PRODID:-//MIEIBC - ECPv6.15.20//NONSGML v1.0//EN
CALSCALE:GREGORIAN
METHOD:PUBLISH
X-WR-CALNAME:MIEIBC
X-ORIGINAL-URL:https://www.mieibc.org
X-WR-CALDESC:Events for MIEIBC
REFRESH-INTERVAL;VALUE=DURATION:PT1H
X-Robots-Tag:noindex
X-PUBLISHED-TTL:PT1H
BEGIN:VTIMEZONE
TZID:America/Detroit
BEGIN:DAYLIGHT
TZOFFSETFROM:-0500
TZOFFSETTO:-0400
TZNAME:EDT
DTSTART:20240310T070000
END:DAYLIGHT
BEGIN:STANDARD
TZOFFSETFROM:-0400
TZOFFSETTO:-0500
TZNAME:EST
DTSTART:20241103T060000
END:STANDARD
BEGIN:DAYLIGHT
TZOFFSETFROM:-0500
TZOFFSETTO:-0400
TZNAME:EDT
DTSTART:20250309T070000
END:DAYLIGHT
BEGIN:STANDARD
TZOFFSETFROM:-0400
TZOFFSETTO:-0500
TZNAME:EST
DTSTART:20251102T060000
END:STANDARD
BEGIN:DAYLIGHT
TZOFFSETFROM:-0500
TZOFFSETTO:-0400
TZNAME:EDT
DTSTART:20260308T070000
END:DAYLIGHT
BEGIN:STANDARD
TZOFFSETFROM:-0400
TZOFFSETTO:-0500
TZNAME:EST
DTSTART:20261101T060000
END:STANDARD
END:VTIMEZONE
BEGIN:VEVENT
DTSTART;TZID=America/Detroit:20250502T110000
DTEND;TZID=America/Detroit:20250502T120000
DTSTAMP:20260423T040543
CREATED:20241211T165707Z
LAST-MODIFIED:20241211T165707Z
UID:10000402-1746183600-1746187200@www.mieibc.org
SUMMARY:EIBC Transportation Electrification Initiative
DESCRIPTION:Open to Michigan EIBC members participating in the 2025 Transportation Electrification Initiative. Reach out to Sophia Schuster (sophia@mieibc.org) if you are interested in learning more about the initiative.
URL:https://www.mieibc.org/event/eibc-transportation-electrification-initiative-2025/2025-05-02/
LOCATION:Zoom Meeting
CATEGORIES:Michigan EIBC
ATTACH;FMTTYPE=image/png:https://www.mieibc.org/wp-content/uploads/2023/02/MIEIBC-wordpress.png
END:VEVENT
BEGIN:VEVENT
DTSTART;TZID=America/Detroit:20250507T083000
DTEND;TZID=America/Detroit:20250507T120000
DTSTAMP:20260423T040543
CREATED:20241125T205634Z
LAST-MODIFIED:20250418T145404Z
UID:10000396-1746606600-1746619200@www.mieibc.org
SUMMARY:Public Convening: Transportation Electrification
DESCRIPTION:Join Michigan EIBC and Clean Fuels Michigan for a public convening to discuss the unique considerations required for states\, municipalities\, and businesses to electrify their fleets. During this event\, we will explore the diverse needs of fleets\, how fleet operators can benefit from electrification\, opportunities to establish fleet incentive and financing programs\, and more. First come\, first serve for a post-event ‘Ride and Drive’ courtesy of Bollinger Motors (limited to the first 15 registrants).  \nRegister here: https://events.bizzabo.com/5-7-25-public-convening
URL:https://www.mieibc.org/event/public-convening-transportation-electrification/
LOCATION:Bollinger Motors\, 14925 W 11 Mile Road\, Oak Park\, MI\, 48237\, United States
CATEGORIES:Featured Events,Michigan EIBC
ATTACH;FMTTYPE=image/jpeg:https://www.mieibc.org/wp-content/uploads/2024/11/4-scaled.jpg
GEO:42.4880155;-83.1964994
X-APPLE-STRUCTURED-LOCATION;VALUE=URI;X-ADDRESS=Bollinger Motors 14925 W 11 Mile Road Oak Park MI 48237 United States;X-APPLE-RADIUS=500;X-TITLE=14925 W 11 Mile Road:geo:-83.1964994,42.4880155
END:VEVENT
BEGIN:VEVENT
DTSTART;TZID=America/Detroit:20250508T110000
DTEND;TZID=America/Detroit:20250508T120000
DTSTAMP:20260423T040543
CREATED:20241125T204407Z
LAST-MODIFIED:20241125T204407Z
UID:10000383-1746702000-1746705600@www.mieibc.org
SUMMARY:EIBC Solar for All Initiative
DESCRIPTION:Open to Michigan EIBC members participating in the 2025 Solar for All Initiative. Reach out to Grace Michienzi (grace@mieibc.org) if you are interested in learning more about the initiative.
URL:https://www.mieibc.org/event/eibc-solar-for-all-initiative/2025-05-08/
LOCATION:Zoom Meeting
CATEGORIES:Michigan EIBC
ATTACH;FMTTYPE=image/png:https://www.mieibc.org/wp-content/uploads/2023/02/MIEIBC-wordpress.png
END:VEVENT
BEGIN:VEVENT
DTSTART;TZID=America/Detroit:20250509T110000
DTEND;TZID=America/Detroit:20250509T120000
DTSTAMP:20260423T040543
CREATED:20241125T203537Z
LAST-MODIFIED:20241125T203537Z
UID:10000347-1746788400-1746792000@www.mieibc.org
SUMMARY:EIBC Energy Storage Initiative
DESCRIPTION:Open to Michigan EIBC members participating in the 2025 Energy Storage Initiative. Collaborates on policy goals to expand opportunities for the energy storage industry in Michigan. Reach out to Laura Sherman (laura@mieibc.org) if you are interested in learning more about the initiative.
URL:https://www.mieibc.org/event/eibc-energy-storage-initiative/2025-05-09/
LOCATION:Zoom Meeting
CATEGORIES:Michigan EIBC
ATTACH;FMTTYPE=image/png:https://www.mieibc.org/wp-content/uploads/2023/02/MIEIBC-wordpress.png
END:VEVENT
BEGIN:VEVENT
DTSTART;TZID=America/Detroit:20250515T110000
DTEND;TZID=America/Detroit:20250515T120000
DTSTAMP:20260423T040543
CREATED:20241125T203212Z
LAST-MODIFIED:20241125T203212Z
UID:10000336-1747306800-1747310400@www.mieibc.org
SUMMARY:EIBC Regulatory Sub-Committee
DESCRIPTION:Open to Michigan EIBC members participating in the 2025 Regulatory Sub-Committee\, which aims to coordinate and represent Michigan EIBC members in regulatory proceedings to drive MPSC decisions that benefit our member companies and the advanced energy industry. Reach out to Laura Sherman (laura@mieibc.org) if you are interested in learning more about this initiative.
URL:https://www.mieibc.org/event/eibc-regulatory-sub-committee/2025-05-15/
LOCATION:Zoom Meeting
CATEGORIES:Michigan EIBC
ATTACH;FMTTYPE=image/png:https://www.mieibc.org/wp-content/uploads/2023/02/MIEIBC-wordpress.png
END:VEVENT
BEGIN:VEVENT
DTSTART;TZID=America/Detroit:20250516T110000
DTEND;TZID=America/Detroit:20250516T120000
DTSTAMP:20260423T040543
CREATED:20241125T202028Z
LAST-MODIFIED:20241125T202028Z
UID:10000324-1747393200-1747396800@www.mieibc.org
SUMMARY:Members Monthly Policy Call: May
DESCRIPTION:On the third Friday of each month at 11am ET\, Michigan EIBC members are invited to our Monthly Policy Call. This is a chance to learn about all of the ongoing policy activities in Michigan at the legislature\, Michigan Public Service Commission\, and state agencies\, and a chance to ask questions of Michigan EIBC staff.
URL:https://www.mieibc.org/event/members-monthly-policy-call-may-2/
LOCATION:Zoom Meeting
CATEGORIES:Michigan EIBC
ATTACH;FMTTYPE=image/png:https://www.mieibc.org/wp-content/uploads/2023/02/MIEIBC-wordpress.png
END:VEVENT
BEGIN:VEVENT
DTSTART;TZID=America/Detroit:20250523T110000
DTEND;TZID=America/Detroit:20250523T120000
DTSTAMP:20260423T040543
CREATED:20241125T204144Z
LAST-MODIFIED:20241125T204144Z
UID:10000371-1747998000-1748001600@www.mieibc.org
SUMMARY:EIBC Building Decarbonization Initiative
DESCRIPTION:Open to Michigan EIBC members participating in the 2025 Building Decarbonization Initiative. Reach out to Grace Michienzi (grace@mieibc.org) if you are interested in learning more about the initiative.
URL:https://www.mieibc.org/event/eibc-building-decarbonization-initiative/2025-05-23/
LOCATION:Zoom Meeting
CATEGORIES:Michigan EIBC
ATTACH;FMTTYPE=image/png:https://www.mieibc.org/wp-content/uploads/2023/02/MIEIBC-wordpress.png
END:VEVENT
BEGIN:VEVENT
DTSTART;TZID=America/Detroit:20250529T160000
DTEND;TZID=America/Detroit:20250529T180000
DTSTAMP:20260423T040543
CREATED:20241125T205052Z
LAST-MODIFIED:20250508T131401Z
UID:10000393-1748534400-1748541600@www.mieibc.org
SUMMARY:Legislative Reception
DESCRIPTION:Following on an incredibly successful event last year\, Michigan EIBC will be hosting a reception at the annual Mackinac Policy Conference. \nThank you to our current sponsors: NextEra Energy Resources\, Michigan CAT\, Advanced Energy United\, AES\, Bellwether Public Relations\, Harvest Solar\, Ranger Power.
URL:https://www.mieibc.org/event/legislative-reception-2/
LOCATION:Seabiscuit Cafe\, 7337 Main St\, Mackinac Island\, MI\, 49757\, United States
CATEGORIES:Featured Events,Michigan EIBC
ATTACH;FMTTYPE=image/jpeg:https://www.mieibc.org/wp-content/uploads/2024/11/member_invite_canva-Cropped-2-scaled.jpg
GEO:45.8490185;-84.6179924
X-APPLE-STRUCTURED-LOCATION;VALUE=URI;X-ADDRESS=Seabiscuit Cafe 7337 Main St Mackinac Island MI 49757 United States;X-APPLE-RADIUS=500;X-TITLE=7337 Main St:geo:-84.6179924,45.8490185
END:VEVENT
END:VCALENDAR