BEGIN:VCALENDAR
VERSION:2.0
PRODID:-//MIEIBC - ECPv6.15.20//NONSGML v1.0//EN
CALSCALE:GREGORIAN
METHOD:PUBLISH
X-WR-CALNAME:MIEIBC
X-ORIGINAL-URL:https://www.mieibc.org
X-WR-CALDESC:Events for MIEIBC
REFRESH-INTERVAL;VALUE=DURATION:PT1H
X-Robots-Tag:noindex
X-PUBLISHED-TTL:PT1H
BEGIN:VTIMEZONE
TZID:America/Detroit
BEGIN:DAYLIGHT
TZOFFSETFROM:-0500
TZOFFSETTO:-0400
TZNAME:EDT
DTSTART:20170312T070000
END:DAYLIGHT
BEGIN:STANDARD
TZOFFSETFROM:-0400
TZOFFSETTO:-0500
TZNAME:EST
DTSTART:20171105T060000
END:STANDARD
BEGIN:DAYLIGHT
TZOFFSETFROM:-0500
TZOFFSETTO:-0400
TZNAME:EDT
DTSTART:20180311T070000
END:DAYLIGHT
BEGIN:STANDARD
TZOFFSETFROM:-0400
TZOFFSETTO:-0500
TZNAME:EST
DTSTART:20181104T060000
END:STANDARD
BEGIN:DAYLIGHT
TZOFFSETFROM:-0500
TZOFFSETTO:-0400
TZNAME:EDT
DTSTART:20190310T070000
END:DAYLIGHT
BEGIN:STANDARD
TZOFFSETFROM:-0400
TZOFFSETTO:-0500
TZNAME:EST
DTSTART:20191103T060000
END:STANDARD
END:VTIMEZONE
BEGIN:VEVENT
DTSTART;TZID=America/Detroit:20180917T130000
DTEND;TZID=America/Detroit:20180917T150000
DTSTAMP:20260419T134947
CREATED:20180806T214112Z
LAST-MODIFIED:20180806T214112Z
UID:10000027-1537189200-1537196400@www.mieibc.org
SUMMARY:Traverse City Advanced Energy Networking Reception
DESCRIPTION:Michigan EIBC invites you to attend an advanced energy networking reception from 5:00 to 7:00 pm on Monday\, September 17 at Keen Technical Solutions in downtown Traverse City. \nThere will be a brief program with remarks by Keen and Michigan EIBC President Liesl Eichler Clark. \nThis reception is free to attend. Drinks and light appetizers will be served. \nParking is not provided for this meeting\, however\, there are parking lots and meters throughout the downtown area. For parking suggestions\, please visit this website: https://www.downtowntc.com/maps-parking/parking-map
URL:https://www.mieibc.org/event/traverse-city-advanced-energy-networking-reception/
LOCATION:Keen Technical Solutions\, 158 E. Front St\, Traverse City\, MI\, 49684
ATTACH;FMTTYPE=image/jpeg:https://www.mieibc.org/wp-content/uploads/2018/08/traverse-city.jpg
END:VEVENT
END:VCALENDAR