BEGIN:VCALENDAR
VERSION:2.0
PRODID:-//MIEIBC - ECPv6.15.20//NONSGML v1.0//EN
CALSCALE:GREGORIAN
METHOD:PUBLISH
X-WR-CALNAME:MIEIBC
X-ORIGINAL-URL:https://www.mieibc.org
X-WR-CALDESC:Events for MIEIBC
REFRESH-INTERVAL;VALUE=DURATION:PT1H
X-Robots-Tag:noindex
X-PUBLISHED-TTL:PT1H
BEGIN:VTIMEZONE
TZID:America/Detroit
BEGIN:DAYLIGHT
TZOFFSETFROM:-0500
TZOFFSETTO:-0400
TZNAME:EDT
DTSTART:20180311T070000
END:DAYLIGHT
BEGIN:STANDARD
TZOFFSETFROM:-0400
TZOFFSETTO:-0500
TZNAME:EST
DTSTART:20181104T060000
END:STANDARD
BEGIN:DAYLIGHT
TZOFFSETFROM:-0500
TZOFFSETTO:-0400
TZNAME:EDT
DTSTART:20190310T070000
END:DAYLIGHT
BEGIN:STANDARD
TZOFFSETFROM:-0400
TZOFFSETTO:-0500
TZNAME:EST
DTSTART:20191103T060000
END:STANDARD
BEGIN:DAYLIGHT
TZOFFSETFROM:-0500
TZOFFSETTO:-0400
TZNAME:EDT
DTSTART:20200308T070000
END:DAYLIGHT
BEGIN:STANDARD
TZOFFSETFROM:-0400
TZOFFSETTO:-0500
TZNAME:EST
DTSTART:20201101T060000
END:STANDARD
BEGIN:DAYLIGHT
TZOFFSETFROM:-0500
TZOFFSETTO:-0400
TZNAME:EDT
DTSTART:20210314T070000
END:DAYLIGHT
BEGIN:STANDARD
TZOFFSETFROM:-0400
TZOFFSETTO:-0500
TZNAME:EST
DTSTART:20211107T060000
END:STANDARD
BEGIN:DAYLIGHT
TZOFFSETFROM:-0500
TZOFFSETTO:-0400
TZNAME:EDT
DTSTART:20220313T070000
END:DAYLIGHT
BEGIN:STANDARD
TZOFFSETFROM:-0400
TZOFFSETTO:-0500
TZNAME:EST
DTSTART:20221106T060000
END:STANDARD
BEGIN:DAYLIGHT
TZOFFSETFROM:-0500
TZOFFSETTO:-0400
TZNAME:EDT
DTSTART:20230312T070000
END:DAYLIGHT
BEGIN:STANDARD
TZOFFSETFROM:-0400
TZOFFSETTO:-0500
TZNAME:EST
DTSTART:20231105T060000
END:STANDARD
BEGIN:DAYLIGHT
TZOFFSETFROM:-0500
TZOFFSETTO:-0400
TZNAME:EDT
DTSTART:20240310T070000
END:DAYLIGHT
BEGIN:STANDARD
TZOFFSETFROM:-0400
TZOFFSETTO:-0500
TZNAME:EST
DTSTART:20241103T060000
END:STANDARD
BEGIN:DAYLIGHT
TZOFFSETFROM:-0500
TZOFFSETTO:-0400
TZNAME:EDT
DTSTART:20250309T070000
END:DAYLIGHT
BEGIN:STANDARD
TZOFFSETFROM:-0400
TZOFFSETTO:-0500
TZNAME:EST
DTSTART:20251102T060000
END:STANDARD
END:VTIMEZONE
BEGIN:VEVENT
DTSTART;TZID=America/Detroit:20240326T120000
DTEND;TZID=America/Detroit:20240326T140000
DTSTAMP:20260419T123606
CREATED:20240228T202805Z
LAST-MODIFIED:20240314T164411Z
UID:10000310-1711454400-1711461600@www.mieibc.org
SUMMARY:Public Convening | Recycling of Solar Panels
DESCRIPTION:Join the Michigan Sustainable Business Forum and the Michigan Energy Innovation Business Council for a public convening to discuss the recycling and reuse of solar panels! \nMillions of solar panels will be installed over the next two decades in Michigan in pursuit of the MI Healthy Climate Plan and public and private-secot renewable energy commitments. This convening will introduce resources for recycling and reuse of solar components\, discuss common materials and manufacturing processes\, and highlight opportunities to proactively address the issue through sustainability practices\, new investment\, and public policy. \n*Note Venue Change* \ntentative agenda\n12:00p-12:30p | Lunch and Networking\n12:30p – 1:00p | State of the State Presentation\n1:00p – 2:00p   | Panel Discussion
URL:https://www.mieibc.org/event/public-convening-recycling-of-solar-panels/
LOCATION:Kellogg Center\, 219 S Harrison Rd\, East Lansing\, MI\, 48824
CATEGORIES:Featured Events,Michigan EIBC
ATTACH;FMTTYPE=image/jpeg:https://www.mieibc.org/wp-content/uploads/2024/02/PV-Solar-Convening-1024x512-1.jpg
END:VEVENT
BEGIN:VEVENT
DTSTART;TZID=America/Detroit:20230426T083000
DTEND;TZID=America/Detroit:20230426T170000
DTSTAMP:20260419T123606
CREATED:20230308T200326Z
LAST-MODIFIED:20230310T180048Z
UID:10000196-1682497800-1682528400@www.mieibc.org
SUMMARY:Michigan EIBC 11th Annual Michigan Energy Innovators Conference
DESCRIPTION:  \n \nJoin us on April 26th for our 11th Annual Michigan Energy Innovators Conference at the Kellogg Hotel & Conference Center. \nLearn more and register here
URL:https://www.mieibc.org/event/michigan-eibc-11th-annual-michigan-energy-innovators-conference/
LOCATION:Kellogg Center\, 219 S Harrison Rd\, East Lansing\, MI\, 48824
CATEGORIES:Michigan EIBC
ATTACH;FMTTYPE=image/png:https://www.mieibc.org/wp-content/uploads/2023/02/MIEIBC-wordpress.png
END:VEVENT
BEGIN:VEVENT
DTSTART;TZID=America/Detroit:20191114T170000
DTEND;TZID=America/Detroit:20191114T210000
DTSTAMP:20260419T123606
CREATED:20190730T190846Z
LAST-MODIFIED:20191029T145345Z
UID:10000059-1573750800-1573765200@www.mieibc.org
SUMMARY:Michigan Energy Innovators Gala
DESCRIPTION:**Please note that all general admission tickets have been sold for this event. Event sponsors\, legislators\, and special guests of Michigan EIBC are still able to register.\nTo put your name on a waiting list\, please email Nicole Forward at nicole@mieibc.org We anticipate that some seats will open up as the event gets closer. Thank you.\n  \nMichigan EIBC is thrilled to announce that Governor Gretchen Whitmer will be the keynote speaker at the 7th Annual Michigan Energy Innovators Gala on Thursday\, November 14 at the Kellogg Center in East Lansing. We’re excited to have her join us to celebrate the accomplishments of the advanced energy industry and the new opportunities that her leadership is creating. \nSince taking office on January 1\, Governor Whitmer has already demonstrated her commitment to Michigan’s advanced energy economy. She has directed state government to ‘lead by example’ through an executive order to build renewable energy generation at select state facilities. To help enable more solar projects across Michigan\, the Governor struck the right balance by allowing solar on farmland while protecting Michigan agriculture. The Governor named advanced energy industry leaders to key leadership positions in the new Department of Environment\, Great Lakes\, and Energy\, including former Michigan EIBC President Liesl Eichler Clark and former Michigan EIBC member Dr. Brandy Brown. The Governor also appointed former Michigan EIBC President Dan Scripps and Tremaine Phillips to the Michigan Public Service Commission\, new members who have deep experience and knowledge of the advanced energy industry. \n \n\n\nGovernor Gretchen Whitmer is a lifelong Michigander. She is a lawyer\, an educator\, former prosecutor\, State Representative and Senator. She was the first woman to lead a Senate caucus. But the most important title she boasts is MOM. Inspired by her family\, she’s devoted her life to building a stronger Michigan for everyone.Governor Whitmer was elected to the House of Representatives in 2000 and elected to the Michigan State Senate in 2006 where she served as the Senate Democratic Leader. In the 2018 gubernatorial election\, Governor Whitmer won all 83 counties in the primary and won the general election with 53 percent of the vote. Since taking her oath of office\, she has put together the most diverse cabinet in our state’s history and has signed executive directives to clean up our drinking water\, end discrimination in state government based on sexual orientation and gender identity\, secure equal pay for equal work\, and expand opportunities for small and disadvantaged businesses. \nGovernor Whitmer and her husband Marc Mallory live in Lansing with her two daughters\, Sherry and Sydney. Her three stepsons\, Alex\, Mason\, and Winston all live in Michigan as well. Governor Whitmer earned a bachelor’s degree and law degree from Michigan State University.  Born and raised in Michigan\, Gretchen Whitmer is honored to serve as Governor of Michigan. \n\n  \nDuring the gala\, we celebrate individuals and businesses who have worked to grow Michigan’s advanced energy sector in 2019. Advanced energy business leaders\, legislators\, Michigan Public Service Commission staff\, state government officials\, and other key decision-makers will be in attendance\, and 90 minutes has been set aside for networking before the program begins. Awards will be presented in the following categories: \n\nProject of the Year\nBusiness of the Year\nEmerging Business of the Year\nPublic Official of the Year\nEnergy Innovators Hall of Fame\n\n  \nTentative Program \n5:00 pm – Registration Open & Cocktail Reception Begins \n6:25 pm – Welcome and Introductions \n6:35 pm – Keynote Address \n7:00 pm – Dinner Served \n7:45 pm – Awards Presentation \n8:50 pm – Closing Comments \n  \n**Sponsorship opportunities are now sold out**\n  \nThank You to Our Event Sponsors!\nGigawatt Level\n \n\n\nMegawatt Level\n  \n \n  \n \n  \n \n  \n \n  \n \n  \n \n  \n \n  \n \n  \n \n \n  \nKilowatt Level \n \n  \n \n \n \n  \n \n  \n \n  \n \n  \n \n \n  \n \n  \n \n 
URL:https://www.mieibc.org/event/michigan-energy-innovators-gala-2/
LOCATION:Kellogg Center\, 219 S Harrison Rd\, East Lansing\, MI\, 48824
ATTACH;FMTTYPE=image/jpeg:https://www.mieibc.org/wp-content/uploads/2019/07/gala2018-1.jpg
END:VEVENT
BEGIN:VEVENT
DTSTART;TZID=America/Detroit:20190423T040000
DTEND;TZID=America/Detroit:20190423T044500
DTSTAMP:20260419T123606
CREATED:20190315T001127Z
LAST-MODIFIED:20190412T201816Z
UID:10000036-1555992000-1555994700@www.mieibc.org
SUMMARY:Michigan EIBC Member Breakfast
DESCRIPTION:Michigan EIBC Members\, \nPlease join us for a Member Breakfast that precedes the Annual Member Meeting on Tuesday\, April 23. This meeting will take place in the Kellogg Center Auditorium. We are pleased to announce that MPSC Chairman Sally Talberg will be our special guest. \n \n  \nDuring the breakfast meeting\, we will discuss Michigan EIBC’s involvement with regulatory\, legislative\, and administrative issues and also introduce members to: \n– New Michigan EIBC President\, Dr. Laura Sherman \n– Michigan EIBC Board Members \n– New Michigan EIBC Lobby Team \n– Michigan EIBC Staff Members \n  \nTimeline: \n7:30-8:00 am: Member-only registration and continental breakfast (Auditorium) \n8:00-8:45 am: Member-only meeting (Auditorium) \n9:00 am: Annual Member Meeting general program begins (Big Ten A) \n  \nThere is no charge to attend the Member Breakfast. \n  \nThe Member Breakfast is sponsored by: \n \n  \nThe Annual Member Meeting begins at 9:00 am (registration opens at 8:30 am to general public) in Big Ten A. The member ticket price for the Annual Member Meeting is $100. To register for the Annual Member Meeting\, please follow this link: https://www.eventbrite.com/e/michigan-eibc-7th-annual-member-meeting-tickets-55062210554
URL:https://www.mieibc.org/event/michigan-eibc-member-breakfast/
LOCATION:Kellogg Center\, 219 S Harrison Rd\, East Lansing\, MI\, 48824
ATTACH;FMTTYPE=image/png:https://www.mieibc.org/wp-content/uploads/2019/03/Member-Breakfast-2-copy-5.png
END:VEVENT
END:VCALENDAR