BEGIN:VCALENDAR
VERSION:2.0
PRODID:-//MIEIBC - ECPv6.15.20//NONSGML v1.0//EN
CALSCALE:GREGORIAN
METHOD:PUBLISH
X-WR-CALNAME:MIEIBC
X-ORIGINAL-URL:https://www.mieibc.org
X-WR-CALDESC:Events for MIEIBC
REFRESH-INTERVAL;VALUE=DURATION:PT1H
X-Robots-Tag:noindex
X-PUBLISHED-TTL:PT1H
BEGIN:VTIMEZONE
TZID:America/Detroit
BEGIN:DAYLIGHT
TZOFFSETFROM:-0500
TZOFFSETTO:-0400
TZNAME:EDT
DTSTART:20250309T070000
END:DAYLIGHT
BEGIN:STANDARD
TZOFFSETFROM:-0400
TZOFFSETTO:-0500
TZNAME:EST
DTSTART:20251102T060000
END:STANDARD
BEGIN:DAYLIGHT
TZOFFSETFROM:-0500
TZOFFSETTO:-0400
TZNAME:EDT
DTSTART:20260308T070000
END:DAYLIGHT
BEGIN:STANDARD
TZOFFSETFROM:-0400
TZOFFSETTO:-0500
TZNAME:EST
DTSTART:20261101T060000
END:STANDARD
BEGIN:DAYLIGHT
TZOFFSETFROM:-0500
TZOFFSETTO:-0400
TZNAME:EDT
DTSTART:20270314T070000
END:DAYLIGHT
BEGIN:STANDARD
TZOFFSETFROM:-0400
TZOFFSETTO:-0500
TZNAME:EST
DTSTART:20271107T060000
END:STANDARD
END:VTIMEZONE
BEGIN:VEVENT
DTSTART;TZID=America/Detroit:20260506T080000
DTEND;TZID=America/Detroit:20260506T190000
DTSTAMP:20260419T110606
CREATED:20260107T191717Z
LAST-MODIFIED:20260401T185109Z
UID:10000477-1778054400-1778094000@www.mieibc.org
SUMMARY:14th Annual Michigan Energy Innovators Conference
DESCRIPTION:Join Michigan EIBC on Wednesday\, May 6th for our 14th Annual Michigan Energy Innovators Conference at the Kellogg Hotel & Conference Center in East Lansing\, MI. Our most popular event of the year\, the annual conference and reception provides attendees an opportunity to network\, learn about innovations in advanced energy\, and get an overview on the latest policy developments. Our conference includes: main-stage panels\, several break-out panels with dozens of expert panelists\, presentations from energy experts\, and networking. The Annual Michigan Energy Innovators Conference brings together leaders in Michigan’s advanced energy industry\, utility executives\, policymakers\, regulators\, and others – to learn and connect about the work we’ve done together and the vital\, continued work into the future! \nTentative Agenda: \nMay 5: \n5 – 7 pm Pre-Conference Reception at Grewal Hall \nMay 6: \n8 am – 5 pm Conference \n5 – 7 pm Networking Reception at Kellogg \nVisit the event website for more information.
URL:https://www.mieibc.org/event/14th-annual-michigan-energy-innovators-conference/
LOCATION:Kellogg Center\, 219 S Harrison Rd\, East Lansing\, MI\, 48824
CATEGORIES:Featured Events,Michigan EIBC
ATTACH;FMTTYPE=image/png:https://www.mieibc.org/wp-content/uploads/2026/01/14th-Michigan-Energy-Innovators-Conference-Header-1-scaled.png
END:VEVENT
END:VCALENDAR